BEGIN:VCALENDAR
VERSION:2.0
PRODID:-//Keep Colchester Cool - ECPv6.15.20//NONSGML v1.0//EN
CALSCALE:GREGORIAN
METHOD:PUBLISH
X-WR-CALNAME:Keep Colchester Cool
X-ORIGINAL-URL:https://keepcolchestercool.co.uk
X-WR-CALDESC:Events for Keep Colchester Cool
REFRESH-INTERVAL;VALUE=DURATION:PT1H
X-Robots-Tag:noindex
X-PUBLISHED-TTL:PT1H
BEGIN:VTIMEZONE
TZID:Europe/London
BEGIN:DAYLIGHT
TZOFFSETFROM:+0000
TZOFFSETTO:+0100
TZNAME:BST
DTSTART:20250330T010000
END:DAYLIGHT
BEGIN:STANDARD
TZOFFSETFROM:+0100
TZOFFSETTO:+0000
TZNAME:GMT
DTSTART:20251026T010000
END:STANDARD
BEGIN:DAYLIGHT
TZOFFSETFROM:+0000
TZOFFSETTO:+0100
TZNAME:BST
DTSTART:20260329T010000
END:DAYLIGHT
BEGIN:STANDARD
TZOFFSETFROM:+0100
TZOFFSETTO:+0000
TZNAME:GMT
DTSTART:20261025T010000
END:STANDARD
BEGIN:DAYLIGHT
TZOFFSETFROM:+0000
TZOFFSETTO:+0100
TZNAME:BST
DTSTART:20270328T010000
END:DAYLIGHT
BEGIN:STANDARD
TZOFFSETFROM:+0100
TZOFFSETTO:+0000
TZNAME:GMT
DTSTART:20271031T010000
END:STANDARD
END:VTIMEZONE
BEGIN:VEVENT
DTSTART;TZID=Europe/London:20260209T190000
DTEND;TZID=Europe/London:20260209T220000
DTSTAMP:20260424T085554
CREATED:20260204T071006Z
LAST-MODIFIED:20260209T070959Z
UID:128217-1770663600-1770674400@keepcolchestercool.co.uk
SUMMARY:February 2026 Branch & Good Beer Guide Selection Meeting
DESCRIPTION:Branch meeting and Good Beer Guide Selection meeting. Final chance to select pubs for the 2027 Good Beer Guide.
URL:https://keepcolchestercool.co.uk/event/february-2026-branch-good-beer-guide-selection-meeting/
LOCATION:Victoria Inn Colchester\, 10 North Station Rd\, Colchester\, CO1 1RB\, GB
ORGANIZER;CN="Colchester and North East Essex CAMRA":MAILTO:noreply@facebookmail_com
END:VEVENT
END:VCALENDAR