BEGIN:VCALENDAR
VERSION:2.0
PRODID:-//Keep Colchester Cool - ECPv6.15.20//NONSGML v1.0//EN
CALSCALE:GREGORIAN
METHOD:PUBLISH
X-WR-CALNAME:Keep Colchester Cool
X-ORIGINAL-URL:https://keepcolchestercool.co.uk
X-WR-CALDESC:Events for Keep Colchester Cool
REFRESH-INTERVAL;VALUE=DURATION:PT1H
X-Robots-Tag:noindex
X-PUBLISHED-TTL:PT1H
BEGIN:VTIMEZONE
TZID:Europe/London
BEGIN:DAYLIGHT
TZOFFSETFROM:+0000
TZOFFSETTO:+0100
TZNAME:BST
DTSTART:20250330T010000
END:DAYLIGHT
BEGIN:STANDARD
TZOFFSETFROM:+0100
TZOFFSETTO:+0000
TZNAME:GMT
DTSTART:20251026T010000
END:STANDARD
BEGIN:DAYLIGHT
TZOFFSETFROM:+0000
TZOFFSETTO:+0100
TZNAME:BST
DTSTART:20260329T010000
END:DAYLIGHT
BEGIN:STANDARD
TZOFFSETFROM:+0100
TZOFFSETTO:+0000
TZNAME:GMT
DTSTART:20261025T010000
END:STANDARD
BEGIN:DAYLIGHT
TZOFFSETFROM:+0000
TZOFFSETTO:+0100
TZNAME:BST
DTSTART:20270328T010000
END:DAYLIGHT
BEGIN:STANDARD
TZOFFSETFROM:+0100
TZOFFSETTO:+0000
TZNAME:GMT
DTSTART:20271031T010000
END:STANDARD
END:VTIMEZONE
BEGIN:VEVENT
DTSTART;TZID=Europe/London:20260505T194500
DTEND;TZID=Europe/London:20260505T211500
DTSTAMP:20260424T042611
CREATED:20260224T071227Z
LAST-MODIFIED:20260226T071229Z
UID:129172-1778010300-1778015700@keepcolchestercool.co.uk
SUMMARY:Festen a stage adaptation by David Eldridge\, based on the Dogme film and play
DESCRIPTION:A stage adaptation by David Eldridge Based on the Dogme film and play by Thomas Vinterberg\, Mogens Rukov and Bo Hr. Hansen \nhttps://www.facebook.com/events/25677055658631908/?event_time_id=25677055688631905
URL:https://keepcolchestercool.co.uk/event/festen-a-stage-adaptation-by-david-eldridge-based-on-the-dogme-film-and-play/
LOCATION:Headgate Theatre\, Headgate Theatre
ATTACH;FMTTYPE=image/jpeg:https://keepcolchestercool.co.uk/wp-content/uploads/129172_image_636866148_1368573655286959_6603959928597332896_n.jpg
ORGANIZER;CN="3wishes theatre CIC":MAILTO:noreply@facebookmail.com
END:VEVENT
END:VCALENDAR