BEGIN:VCALENDAR
VERSION:2.0
PRODID:-//Keep Colchester Cool - ECPv6.15.20//NONSGML v1.0//EN
CALSCALE:GREGORIAN
METHOD:PUBLISH
X-WR-CALNAME:Keep Colchester Cool
X-ORIGINAL-URL:https://keepcolchestercool.co.uk
X-WR-CALDESC:Events for Keep Colchester Cool
REFRESH-INTERVAL;VALUE=DURATION:PT1H
X-Robots-Tag:noindex
X-PUBLISHED-TTL:PT1H
BEGIN:VTIMEZONE
TZID:Europe/London
BEGIN:DAYLIGHT
TZOFFSETFROM:+0000
TZOFFSETTO:+0100
TZNAME:BST
DTSTART:20240331T010000
END:DAYLIGHT
BEGIN:STANDARD
TZOFFSETFROM:+0100
TZOFFSETTO:+0000
TZNAME:GMT
DTSTART:20241027T010000
END:STANDARD
BEGIN:DAYLIGHT
TZOFFSETFROM:+0000
TZOFFSETTO:+0100
TZNAME:BST
DTSTART:20250330T010000
END:DAYLIGHT
BEGIN:STANDARD
TZOFFSETFROM:+0100
TZOFFSETTO:+0000
TZNAME:GMT
DTSTART:20251026T010000
END:STANDARD
BEGIN:DAYLIGHT
TZOFFSETFROM:+0000
TZOFFSETTO:+0100
TZNAME:BST
DTSTART:20260329T010000
END:DAYLIGHT
BEGIN:STANDARD
TZOFFSETFROM:+0100
TZOFFSETTO:+0000
TZNAME:GMT
DTSTART:20261025T010000
END:STANDARD
END:VTIMEZONE
BEGIN:VEVENT
DTSTART;TZID=Europe/London:20251111T190000
DTEND;TZID=Europe/London:20251111T220000
DTSTAMP:20260424T151004
CREATED:20250524T071220Z
LAST-MODIFIED:20251111T071028Z
UID:124622-1762887600-1762898400@keepcolchestercool.co.uk
SUMMARY:Festive Wine & Food Taster Evening
DESCRIPTION:Join us on Tuesday 11th November for our Festive Wine & Food Pairing Evening. Explore wines for Christmas as we take you through four-courses of seasonally inspired food and wine at Three Wise Monkeys – in collaboration with independent and local wine merchants and suppliers\, Street Wines. \nHosted by Charlie Rogers and Founder of Street Wines\, Neils Dubro. Together\, they will draw on their knowledge and experience\, taking you on a journey of the world through wine\, investigating the new and old worlds of wine and discussing what it is that makes food and wine work so well together. \nOur Festive Wine & Food Pairing Evening begins at 7pm on our restaurant floor \nTickets are priced at £50. The wines tasted will be available to purchase and take home on the night \nOver 18s only. \nGuests with specific dietary requirements or with allergies should contact the team via info@twmcolchester.com prior to ticket purchase. \nAccess – There is no lift to access the restaurant floor of Three Wise Monkeys. There are two flights of stairs to reach the restaurant floor.
URL:https://keepcolchestercool.co.uk/event/festive-wine-food-taster-evening/
LOCATION:60 High Street\, CO1 1DN Colchester\, United Kingdom\, 60 High Street\, CO1 1DN Colchester\, United Kingdom
ORGANIZER;CN="Three Wise Monkeys Colchester":MAILTO:noreply@facebookmail_com
END:VEVENT
END:VCALENDAR