BEGIN:VCALENDAR
VERSION:2.0
PRODID:-//Keep Colchester Cool - ECPv6.15.20//NONSGML v1.0//EN
CALSCALE:GREGORIAN
METHOD:PUBLISH
X-WR-CALNAME:Keep Colchester Cool
X-ORIGINAL-URL:https://keepcolchestercool.co.uk
X-WR-CALDESC:Events for Keep Colchester Cool
REFRESH-INTERVAL;VALUE=DURATION:PT1H
X-Robots-Tag:noindex
X-PUBLISHED-TTL:PT1H
BEGIN:VTIMEZONE
TZID:Europe/London
BEGIN:DAYLIGHT
TZOFFSETFROM:+0000
TZOFFSETTO:+0100
TZNAME:BST
DTSTART:20250330T010000
END:DAYLIGHT
BEGIN:STANDARD
TZOFFSETFROM:+0100
TZOFFSETTO:+0000
TZNAME:GMT
DTSTART:20251026T010000
END:STANDARD
BEGIN:DAYLIGHT
TZOFFSETFROM:+0000
TZOFFSETTO:+0100
TZNAME:BST
DTSTART:20260329T010000
END:DAYLIGHT
BEGIN:STANDARD
TZOFFSETFROM:+0100
TZOFFSETTO:+0000
TZNAME:GMT
DTSTART:20261025T010000
END:STANDARD
BEGIN:DAYLIGHT
TZOFFSETFROM:+0000
TZOFFSETTO:+0100
TZNAME:BST
DTSTART:20270328T010000
END:DAYLIGHT
BEGIN:STANDARD
TZOFFSETFROM:+0100
TZOFFSETTO:+0000
TZNAME:GMT
DTSTART:20271031T010000
END:STANDARD
END:VTIMEZONE
BEGIN:VEVENT
DTSTART;TZID=Europe/London:20260109T193000
DTEND;TZID=Europe/London:20260109T223000
DTSTAMP:20260424T091136
CREATED:20260105T071010Z
LAST-MODIFIED:20260109T071037Z
UID:127581-1767987000-1767997800@keepcolchestercool.co.uk
SUMMARY:Friday Session - Jamie Cook
DESCRIPTION:If you missed Jamie when he was here in November for a Sunday session then now is your chance to see him and see how good he really is! He even takes requests! So come along for a chilled early Friday evening session!
URL:https://keepcolchestercool.co.uk/event/friday-session-jamie-cook/
LOCATION:55 The Cross\, CO7 9QL Wivenhoe\, United Kingdom\, 55 The Cross\, CO7 9QL Wivenhoe\, United Kingdom
ORGANIZER;CN="The Horse &amp%3B Groom":MAILTO:noreply@facebookmail_com
END:VEVENT
END:VCALENDAR