BEGIN:VCALENDAR
VERSION:2.0
PRODID:-//Keep Colchester Cool - ECPv6.15.20//NONSGML v1.0//EN
CALSCALE:GREGORIAN
METHOD:PUBLISH
X-WR-CALNAME:Keep Colchester Cool
X-ORIGINAL-URL:https://keepcolchestercool.co.uk
X-WR-CALDESC:Events for Keep Colchester Cool
REFRESH-INTERVAL;VALUE=DURATION:PT1H
X-Robots-Tag:noindex
X-PUBLISHED-TTL:PT1H
BEGIN:VTIMEZONE
TZID:Europe/London
BEGIN:DAYLIGHT
TZOFFSETFROM:+0000
TZOFFSETTO:+0100
TZNAME:BST
DTSTART:20240331T010000
END:DAYLIGHT
BEGIN:STANDARD
TZOFFSETFROM:+0100
TZOFFSETTO:+0000
TZNAME:GMT
DTSTART:20241027T010000
END:STANDARD
BEGIN:DAYLIGHT
TZOFFSETFROM:+0000
TZOFFSETTO:+0100
TZNAME:BST
DTSTART:20250330T010000
END:DAYLIGHT
BEGIN:STANDARD
TZOFFSETFROM:+0100
TZOFFSETTO:+0000
TZNAME:GMT
DTSTART:20251026T010000
END:STANDARD
BEGIN:DAYLIGHT
TZOFFSETFROM:+0000
TZOFFSETTO:+0100
TZNAME:BST
DTSTART:20260329T010000
END:DAYLIGHT
BEGIN:STANDARD
TZOFFSETFROM:+0100
TZOFFSETTO:+0000
TZNAME:GMT
DTSTART:20261025T010000
END:STANDARD
END:VTIMEZONE
BEGIN:VEVENT
DTSTART;TZID=Europe/London:20251114T193000
DTEND;TZID=Europe/London:20251114T223000
DTSTAMP:20260424T154952
CREATED:20251008T071041Z
LAST-MODIFIED:20251114T071023Z
UID:126385-1763148600-1763159400@keepcolchestercool.co.uk
SUMMARY:Gaz Brookfield: Waiting For Wisdom 2025 Tour
DESCRIPTION:Waiting For Wisdom 2025 tour \nFollowing the release of his tenth studio album\, Waiting ForWisdom\, Gaz Brookfield takes to the road once more. \nFolk/Punk festival favourite\, Brookfield has been at this for a while now. Since winning Acoustic Magazine Singer/Songwriter of the year way back in 2010 he has continued to tirelessly tour the length and breadth of the country\, building a strong and loyal following where he goes. \nHis last album\, Morning Walking Club\, saw Gaz achieve his first top 40 record\, and it even got number 1 in the UK Official Folk Charts. Not a bad result for this fiercely independent musician\, with no record label\, no manager\, and no agent – just a guitar\, a van\, and a steadfastly belligerent refusal to give in.
URL:https://keepcolchestercool.co.uk/event/gaz-brookfield-waiting-for-wisdom-2025-tour/
LOCATION:60 High Street\, CO1 1DN Colchester\, United Kingdom\, 60 High Street\, CO1 1DN Colchester\, United Kingdom
ORGANIZER;CN="Three Wise Monkeys Colchester":MAILTO:noreply@facebookmail_com
END:VEVENT
END:VCALENDAR