BEGIN:VCALENDAR
VERSION:2.0
PRODID:-//Keep Colchester Cool - ECPv6.15.20//NONSGML v1.0//EN
CALSCALE:GREGORIAN
METHOD:PUBLISH
X-WR-CALNAME:Keep Colchester Cool
X-ORIGINAL-URL:https://keepcolchestercool.co.uk
X-WR-CALDESC:Events for Keep Colchester Cool
REFRESH-INTERVAL;VALUE=DURATION:PT1H
X-Robots-Tag:noindex
X-PUBLISHED-TTL:PT1H
BEGIN:VTIMEZONE
TZID:Europe/London
BEGIN:DAYLIGHT
TZOFFSETFROM:+0000
TZOFFSETTO:+0100
TZNAME:BST
DTSTART:20240331T010000
END:DAYLIGHT
BEGIN:STANDARD
TZOFFSETFROM:+0100
TZOFFSETTO:+0000
TZNAME:GMT
DTSTART:20241027T010000
END:STANDARD
BEGIN:DAYLIGHT
TZOFFSETFROM:+0000
TZOFFSETTO:+0100
TZNAME:BST
DTSTART:20250330T010000
END:DAYLIGHT
BEGIN:STANDARD
TZOFFSETFROM:+0100
TZOFFSETTO:+0000
TZNAME:GMT
DTSTART:20251026T010000
END:STANDARD
BEGIN:DAYLIGHT
TZOFFSETFROM:+0000
TZOFFSETTO:+0100
TZNAME:BST
DTSTART:20260329T010000
END:DAYLIGHT
BEGIN:STANDARD
TZOFFSETFROM:+0100
TZOFFSETTO:+0000
TZNAME:GMT
DTSTART:20261025T010000
END:STANDARD
END:VTIMEZONE
BEGIN:VEVENT
DTSTART;TZID=Europe/London:20250920T200000
DTEND;TZID=Europe/London:20250920T230000
DTSTAMP:20260424T210439
CREATED:20250813T071027Z
LAST-MODIFIED:20250920T071024Z
UID:125761-1758398400-1758409200@keepcolchestercool.co.uk
SUMMARY:Groove On Up
DESCRIPTION:The Victoria Inn’s ‘Groove On Up’ \nGet ready for “Groove On Up\,” a night of classic soul\, disco\, and funk! \nDJs Ben Howard and Dave Mansfield\, known for their legendary club nights\, are set to get everyone grooving at the Victoria Inn on Saturday 20th September. \nThey’ll supply you with a mix of timeless tracks\, from Motown classics to the golden era of disco to singalong funk and soul anthems.  \nAnd the best part? It’s free entry!
URL:https://keepcolchestercool.co.uk/event/groove-on-up-2/
LOCATION:10 North Station Rd\, Colchester
ORGANIZER;CN="Victoria Inn Colchester":MAILTO:noreply@facebookmail_com
END:VEVENT
END:VCALENDAR