BEGIN:VCALENDAR
VERSION:2.0
PRODID:-//Keep Colchester Cool - ECPv6.15.20//NONSGML v1.0//EN
CALSCALE:GREGORIAN
METHOD:PUBLISH
X-WR-CALNAME:Keep Colchester Cool
X-ORIGINAL-URL:https://keepcolchestercool.co.uk
X-WR-CALDESC:Events for Keep Colchester Cool
REFRESH-INTERVAL;VALUE=DURATION:PT1H
X-Robots-Tag:noindex
X-PUBLISHED-TTL:PT1H
BEGIN:VTIMEZONE
TZID:Europe/London
BEGIN:DAYLIGHT
TZOFFSETFROM:+0000
TZOFFSETTO:+0100
TZNAME:BST
DTSTART:20240331T010000
END:DAYLIGHT
BEGIN:STANDARD
TZOFFSETFROM:+0100
TZOFFSETTO:+0000
TZNAME:GMT
DTSTART:20241027T010000
END:STANDARD
BEGIN:DAYLIGHT
TZOFFSETFROM:+0000
TZOFFSETTO:+0100
TZNAME:BST
DTSTART:20250330T010000
END:DAYLIGHT
BEGIN:STANDARD
TZOFFSETFROM:+0100
TZOFFSETTO:+0000
TZNAME:GMT
DTSTART:20251026T010000
END:STANDARD
BEGIN:DAYLIGHT
TZOFFSETFROM:+0000
TZOFFSETTO:+0100
TZNAME:BST
DTSTART:20260329T010000
END:DAYLIGHT
BEGIN:STANDARD
TZOFFSETFROM:+0100
TZOFFSETTO:+0000
TZNAME:GMT
DTSTART:20261025T010000
END:STANDARD
END:VTIMEZONE
BEGIN:VEVENT
DTSTART;TZID=Europe/London:20251130T190000
DTEND;TZID=Europe/London:20251130T220000
DTSTAMP:20260424T152044
CREATED:20251025T071042Z
LAST-MODIFIED:20251130T071054Z
UID:126792-1764529200-1764540000@keepcolchestercool.co.uk
SUMMARY:Hal Cruttenden: Can Dish It Out But Can't Take It
DESCRIPTION:Tickets £21.50.Doors open 7pm\, show starts 7.30pm.This show is for a seated audience.  \nHal Cruttenden: Can Dish It Out But Can’t Take It Hal is back with a brand-new tour for 2025 with a show that promises to stick it to ‘The Man’\, as long as ‘The Man’ doesn’t stick it back to him.  \nWith his trademark hard-hitting ‘take no prisoners’ comedy (this is what Hal told me to write!!!) he will be hilariously pontificating on subjects like middle aged dating\, social media\, the insanity of modern politics and the fact that his daughters love him but don’t respect him. He believes that\, after you’ve seen the show\, you’ll feel exactly the same way.  \nHis last tour was extended four times and he’s one of a select number of comics to have done Live At The Apollo three times and the Royal Variety twice\, TV also includes Have I Got News For You\, The Apprentice You’re Fired\, Bake Off Extra Slice and Would I Lie To You. \n‘Reminded me of how much I love stand up’ ★★★★ The Times‘Go and see Hal Cruttenden\, he’s got something to say and he’ll make you laugh; a lot.’ ★★★★★ Daily Mirror‘Naturally funny…challenging and provocative’ ★★★★ Daily Telegraph
URL:https://keepcolchestercool.co.uk/event/hal-cruttenden-can-dish-it-out-but-cant-take-it/
LOCATION:Church St\, CO1 1NF Colchester\, United Kingdom
ORGANIZER;CN="Colchester Arts Centre":MAILTO:noreply@facebookmail_com
END:VEVENT
END:VCALENDAR