BEGIN:VCALENDAR
VERSION:2.0
PRODID:-//Keep Colchester Cool - ECPv6.15.20//NONSGML v1.0//EN
CALSCALE:GREGORIAN
METHOD:PUBLISH
X-WR-CALNAME:Keep Colchester Cool
X-ORIGINAL-URL:https://keepcolchestercool.co.uk
X-WR-CALDESC:Events for Keep Colchester Cool
REFRESH-INTERVAL;VALUE=DURATION:PT1H
X-Robots-Tag:noindex
X-PUBLISHED-TTL:PT1H
BEGIN:VTIMEZONE
TZID:Europe/London
BEGIN:DAYLIGHT
TZOFFSETFROM:+0000
TZOFFSETTO:+0100
TZNAME:BST
DTSTART:20250330T010000
END:DAYLIGHT
BEGIN:STANDARD
TZOFFSETFROM:+0100
TZOFFSETTO:+0000
TZNAME:GMT
DTSTART:20251026T010000
END:STANDARD
BEGIN:DAYLIGHT
TZOFFSETFROM:+0000
TZOFFSETTO:+0100
TZNAME:BST
DTSTART:20260329T010000
END:DAYLIGHT
BEGIN:STANDARD
TZOFFSETFROM:+0100
TZOFFSETTO:+0000
TZNAME:GMT
DTSTART:20261025T010000
END:STANDARD
BEGIN:DAYLIGHT
TZOFFSETFROM:+0000
TZOFFSETTO:+0100
TZNAME:BST
DTSTART:20270328T010000
END:DAYLIGHT
BEGIN:STANDARD
TZOFFSETFROM:+0100
TZOFFSETTO:+0000
TZNAME:GMT
DTSTART:20271031T010000
END:STANDARD
END:VTIMEZONE
BEGIN:VEVENT
DTSTART;TZID=Europe/London:20260418T193000
DTEND;TZID=Europe/London:20260418T223000
DTSTAMP:20260424T011701
CREATED:20260127T071121Z
LAST-MODIFIED:20260226T071226Z
UID:128115-1776540600-1776551400@keepcolchestercool.co.uk
SUMMARY:Haydn\, Schubert and Rossini
DESCRIPTION:Rossini: Overture to the Barber of SevilleHaydn: Cello Concerto in C \nSoloist: John ChillingworthSchubert: Symphony No. 9 \nConductor: Chris PhelpsTickets £18\, (under 25s free) call 01206 271128 or available at the door
URL:https://keepcolchestercool.co.uk/event/haydn-schubert-and-rossini/
LOCATION:St Botolph’s Church Walk\, Colchester\, CO2 7\, United Kingdom\, St Botolph's Church Walk\, Colchester\, CO2 7\, United Kingdom
ATTACH;FMTTYPE=image/jpeg:https://keepcolchestercool.co.uk/wp-content/uploads/128115_image_619492986_1178045570978569_8992866273878427373_n.jpg
ORGANIZER;CN="Colchester Symphony Orchestra":MAILTO:noreply@facebookmail_com
END:VEVENT
END:VCALENDAR