BEGIN:VCALENDAR
VERSION:2.0
PRODID:-//Keep Colchester Cool - ECPv6.15.20//NONSGML v1.0//EN
CALSCALE:GREGORIAN
METHOD:PUBLISH
X-WR-CALNAME:Keep Colchester Cool
X-ORIGINAL-URL:https://keepcolchestercool.co.uk
X-WR-CALDESC:Events for Keep Colchester Cool
REFRESH-INTERVAL;VALUE=DURATION:PT1H
X-Robots-Tag:noindex
X-PUBLISHED-TTL:PT1H
BEGIN:VTIMEZONE
TZID:Europe/London
BEGIN:DAYLIGHT
TZOFFSETFROM:+0000
TZOFFSETTO:+0100
TZNAME:BST
DTSTART:20240331T010000
END:DAYLIGHT
BEGIN:STANDARD
TZOFFSETFROM:+0100
TZOFFSETTO:+0000
TZNAME:GMT
DTSTART:20241027T010000
END:STANDARD
BEGIN:DAYLIGHT
TZOFFSETFROM:+0000
TZOFFSETTO:+0100
TZNAME:BST
DTSTART:20250330T010000
END:DAYLIGHT
BEGIN:STANDARD
TZOFFSETFROM:+0100
TZOFFSETTO:+0000
TZNAME:GMT
DTSTART:20251026T010000
END:STANDARD
BEGIN:DAYLIGHT
TZOFFSETFROM:+0000
TZOFFSETTO:+0100
TZNAME:BST
DTSTART:20260329T010000
END:DAYLIGHT
BEGIN:STANDARD
TZOFFSETFROM:+0100
TZOFFSETTO:+0000
TZNAME:GMT
DTSTART:20261025T010000
END:STANDARD
END:VTIMEZONE
BEGIN:VEVENT
DTSTART;TZID=Europe/London:20250914T180000
DTEND;TZID=Europe/London:20250914T210000
DTSTAMP:20260424T210424
CREATED:20250827T071013Z
LAST-MODIFIED:20250914T071011Z
UID:125935-1757872800-1757883600@keepcolchestercool.co.uk
SUMMARY:Hibiscus Haze
DESCRIPTION:Hibiscus Haze\, New Single Photo Booth with support from Star Crossed \nJoin us on Sunday 14th September for a special night on the Top Floor of Three Wise Monkeys as Hibiscus Haze celebrate the release of their brand new single Photo Booth. Expect rising local talent\, with support from Star Crossed. \n📅 Date: Sunday 14th September� 🕕 Time: Doors 6:00 PM� 📍 Venue: Top Floor\, Three Wise Monkeys �🎟️ Tickets: £4 + booking fee \nImportant Information* Accessibility: Please note that access to the top floor of Three Wise Monkeys does not have a lift. However\, there are rest points available between each flight of stairs. \n* Lighting: Viewer discretion is advised as the show may contain flashing and strobing lighting effects. \n* Refund Policy: Ticket refunds cannot be processed within 7 days of the event. We understand plans may change\, but unfortunately we’re unable to accommodate refund requests during this timeframe.
URL:https://keepcolchestercool.co.uk/event/hibiscus-haze/
LOCATION:60 High Street\, CO1 1DN Colchester\, United Kingdom\, 60 High Street\, CO1 1DN Colchester\, United Kingdom
ORGANIZER;CN="Three Wise Monkeys Colchester":MAILTO:noreply@facebookmail_com
END:VEVENT
END:VCALENDAR