BEGIN:VCALENDAR
VERSION:2.0
PRODID:-//Keep Colchester Cool - ECPv6.15.20//NONSGML v1.0//EN
CALSCALE:GREGORIAN
METHOD:PUBLISH
X-WR-CALNAME:Keep Colchester Cool
X-ORIGINAL-URL:https://keepcolchestercool.co.uk
X-WR-CALDESC:Events for Keep Colchester Cool
REFRESH-INTERVAL;VALUE=DURATION:PT1H
X-Robots-Tag:noindex
X-PUBLISHED-TTL:PT1H
BEGIN:VTIMEZONE
TZID:Europe/London
BEGIN:DAYLIGHT
TZOFFSETFROM:+0000
TZOFFSETTO:+0100
TZNAME:BST
DTSTART:20240331T010000
END:DAYLIGHT
BEGIN:STANDARD
TZOFFSETFROM:+0100
TZOFFSETTO:+0000
TZNAME:GMT
DTSTART:20241027T010000
END:STANDARD
BEGIN:DAYLIGHT
TZOFFSETFROM:+0000
TZOFFSETTO:+0100
TZNAME:BST
DTSTART:20250330T010000
END:DAYLIGHT
BEGIN:STANDARD
TZOFFSETFROM:+0100
TZOFFSETTO:+0000
TZNAME:GMT
DTSTART:20251026T010000
END:STANDARD
BEGIN:DAYLIGHT
TZOFFSETFROM:+0000
TZOFFSETTO:+0100
TZNAME:BST
DTSTART:20260329T010000
END:DAYLIGHT
BEGIN:STANDARD
TZOFFSETFROM:+0100
TZOFFSETTO:+0000
TZNAME:GMT
DTSTART:20261025T010000
END:STANDARD
END:VTIMEZONE
BEGIN:VEVENT
DTSTART;TZID=Europe/London:20250819T194500
DTEND;TZID=Europe/London:20250819T220000
DTSTAMP:20260424T230909
CREATED:20250523T071037Z
LAST-MODIFIED:20250819T071033Z
UID:124558-1755632700-1755640800@keepcolchestercool.co.uk
SUMMARY:Hobson's Choice by Harold Brighouse
DESCRIPTION:This August\, relive this glorious theatre comedy classic. Suitable for all the family. \nIt’s 1885 in Salford. Bombastic\, beer-drinking bootmaker\, Henry Horatio Hobson\, stands in the way of his three daughters’ future happiness. But Maggie\, “the plain one”\, is ready to settle the score with her father\, her sisters and the whole bloomin’ community! \n“Hobson’s Choice” is presented by arrangement with Concord Theatricals Ltd. on behalf of Samuel French Ltd. www.concordtheatricals.co.uk \nhttps://www.facebook.com/events/686574647177673/?event_time_id=686574657177672
URL:https://keepcolchestercool.co.uk/event/hobsons-choice-by-harold-brighouse/
LOCATION:Headgate Theatre\, Headgate Theatre
ORGANIZER;CN="3wishes theatre CIC":MAILTO:noreply@facebookmail.com
END:VEVENT
END:VCALENDAR