BEGIN:VCALENDAR
VERSION:2.0
PRODID:-//Keep Colchester Cool - ECPv6.15.20//NONSGML v1.0//EN
CALSCALE:GREGORIAN
METHOD:PUBLISH
X-WR-CALNAME:Keep Colchester Cool
X-ORIGINAL-URL:https://keepcolchestercool.co.uk
X-WR-CALDESC:Events for Keep Colchester Cool
REFRESH-INTERVAL;VALUE=DURATION:PT1H
X-Robots-Tag:noindex
X-PUBLISHED-TTL:PT1H
BEGIN:VTIMEZONE
TZID:Europe/London
BEGIN:DAYLIGHT
TZOFFSETFROM:+0000
TZOFFSETTO:+0100
TZNAME:BST
DTSTART:20250330T010000
END:DAYLIGHT
BEGIN:STANDARD
TZOFFSETFROM:+0100
TZOFFSETTO:+0000
TZNAME:GMT
DTSTART:20251026T010000
END:STANDARD
BEGIN:DAYLIGHT
TZOFFSETFROM:+0000
TZOFFSETTO:+0100
TZNAME:BST
DTSTART:20260329T010000
END:DAYLIGHT
BEGIN:STANDARD
TZOFFSETFROM:+0100
TZOFFSETTO:+0000
TZNAME:GMT
DTSTART:20261025T010000
END:STANDARD
BEGIN:DAYLIGHT
TZOFFSETFROM:+0000
TZOFFSETTO:+0100
TZNAME:BST
DTSTART:20270328T010000
END:DAYLIGHT
BEGIN:STANDARD
TZOFFSETFROM:+0100
TZOFFSETTO:+0000
TZNAME:GMT
DTSTART:20271031T010000
END:STANDARD
END:VTIMEZONE
BEGIN:VEVENT
DTSTART;TZID=Europe/London:20260821T170000
DTEND;TZID=Europe/London:20260821T200000
DTSTAMP:20260424T132914
CREATED:20260224T071241Z
LAST-MODIFIED:20260226T071235Z
UID:129231-1787331600-1787342400@keepcolchestercool.co.uk
SUMMARY:Hollywood Vampires
DESCRIPTION:Sale Dates and Times: \nPublic Onsale : Fri\, 23 Jan 2026 at 10:00 AM \nArtist Presale : Tue\, 20 Jan 2026 at 10:00 AM \nPriority from O2 : Wed\, 21 Jan 2026 at 10:00 AM \nCuffe and Taylor Presale : Thu\, 22 Jan 2026 at 10:00 AM \nTicketmaster Presale : Thu\, 22 Jan 2026 at 10:00 AM \nLive Nation Presale : Thu\, 22 Jan 2026 at 10:00 AM \nSupermodified Presale : Thu\, 22 Jan 2026 at 10:00 AM
URL:https://keepcolchestercool.co.uk/event/hollywood-vampires/
LOCATION:Colchester Castle Park\, Colchester Castle Park
ATTACH;FMTTYPE=image/jpeg:https://keepcolchestercool.co.uk/wp-content/uploads/129231_image_616155371_1342669361234951_513201138001719862_n.jpg
ORGANIZER;CN="Ticketmaster Events":MAILTO:noreply@facebookmail_com
END:VEVENT
END:VCALENDAR