BEGIN:VCALENDAR
VERSION:2.0
PRODID:-//Keep Colchester Cool - ECPv6.15.20//NONSGML v1.0//EN
CALSCALE:GREGORIAN
METHOD:PUBLISH
X-WR-CALNAME:Keep Colchester Cool
X-ORIGINAL-URL:https://keepcolchestercool.co.uk
X-WR-CALDESC:Events for Keep Colchester Cool
REFRESH-INTERVAL;VALUE=DURATION:PT1H
X-Robots-Tag:noindex
X-PUBLISHED-TTL:PT1H
BEGIN:VTIMEZONE
TZID:Europe/London
BEGIN:DAYLIGHT
TZOFFSETFROM:+0000
TZOFFSETTO:+0100
TZNAME:BST
DTSTART:20240331T010000
END:DAYLIGHT
BEGIN:STANDARD
TZOFFSETFROM:+0100
TZOFFSETTO:+0000
TZNAME:GMT
DTSTART:20241027T010000
END:STANDARD
BEGIN:DAYLIGHT
TZOFFSETFROM:+0000
TZOFFSETTO:+0100
TZNAME:BST
DTSTART:20250330T010000
END:DAYLIGHT
BEGIN:STANDARD
TZOFFSETFROM:+0100
TZOFFSETTO:+0000
TZNAME:GMT
DTSTART:20251026T010000
END:STANDARD
BEGIN:DAYLIGHT
TZOFFSETFROM:+0000
TZOFFSETTO:+0100
TZNAME:BST
DTSTART:20260329T010000
END:DAYLIGHT
BEGIN:STANDARD
TZOFFSETFROM:+0100
TZOFFSETTO:+0000
TZNAME:GMT
DTSTART:20261025T010000
END:STANDARD
END:VTIMEZONE
BEGIN:VEVENT
DTSTART;TZID=Europe/London:20250916T193000
DTEND;TZID=Europe/London:20250916T220000
DTSTAMP:20260424T194250
CREATED:20250827T071014Z
LAST-MODIFIED:20250916T071006Z
UID:125936-1758051000-1758060000@keepcolchestercool.co.uk
SUMMARY:Iceland In Winter - Talk by Colin Westgate MFIAP FRPS MPAGB APAGB
DESCRIPTION:Colin has been photographing landscapes for over 60 years andhas never wavered in his enthusiasm and passion for this diverse subject. One of his favourite locations is Iceland\, a country he has returned to repeatedly. The raw and dramatic volcanic scenery offers endless and exciting opportunities for photography.In winter\, the unique Icelandic landscape is transformed into something truly magical\, with a blanket of snow and ice covering everything\, including frozen rivers\, lakes\, and waterfalls. The special quality of light during this season adds another dimension to the scenery\, and the longer nights increase the chances of experiencing the Northern Lights. \n(Visitors £5.00) \nHeader Image: Winter Light\, Iceland – Colin Westgate MPAGB FRPS MFIAP APAGB
URL:https://keepcolchestercool.co.uk/event/iceland-in-winter-talk-by-colin-westgate-mfiap-frps-mpagb-apagb-2/
LOCATION:Ireton Road\, CO3 3AT Colchester\, United Kingdom\, Ireton Road\, CO3 3AT Colchester\, United Kingdom
ORGANIZER;CN="Colchester Photographic Society":MAILTO:noreply@facebookmail_com
END:VEVENT
END:VCALENDAR