BEGIN:VCALENDAR
VERSION:2.0
PRODID:-//Keep Colchester Cool - ECPv6.15.20//NONSGML v1.0//EN
CALSCALE:GREGORIAN
METHOD:PUBLISH
X-WR-CALNAME:Keep Colchester Cool
X-ORIGINAL-URL:https://keepcolchestercool.co.uk
X-WR-CALDESC:Events for Keep Colchester Cool
REFRESH-INTERVAL;VALUE=DURATION:PT1H
X-Robots-Tag:noindex
X-PUBLISHED-TTL:PT1H
BEGIN:VTIMEZONE
TZID:Europe/London
BEGIN:DAYLIGHT
TZOFFSETFROM:+0000
TZOFFSETTO:+0100
TZNAME:BST
DTSTART:20250330T010000
END:DAYLIGHT
BEGIN:STANDARD
TZOFFSETFROM:+0100
TZOFFSETTO:+0000
TZNAME:GMT
DTSTART:20251026T010000
END:STANDARD
BEGIN:DAYLIGHT
TZOFFSETFROM:+0000
TZOFFSETTO:+0100
TZNAME:BST
DTSTART:20260329T010000
END:DAYLIGHT
BEGIN:STANDARD
TZOFFSETFROM:+0100
TZOFFSETTO:+0000
TZNAME:GMT
DTSTART:20261025T010000
END:STANDARD
BEGIN:DAYLIGHT
TZOFFSETFROM:+0000
TZOFFSETTO:+0100
TZNAME:BST
DTSTART:20270328T010000
END:DAYLIGHT
BEGIN:STANDARD
TZOFFSETFROM:+0100
TZOFFSETTO:+0000
TZNAME:GMT
DTSTART:20271031T010000
END:STANDARD
END:VTIMEZONE
BEGIN:VEVENT
DTSTART;TZID=Europe/London:20260308T170000
DTEND;TZID=Europe/London:20260308T200000
DTSTAMP:20260424T044230
CREATED:20260127T071113Z
LAST-MODIFIED:20260226T071212Z
UID:128112-1772989200-1773000000@keepcolchestercool.co.uk
SUMMARY:Jake Cheek & Dean Frost
DESCRIPTION:Two of Colchesters finest singer/songwriters are joining forces to showcase their very best songs. \nThis Sunday afternoon gig is not to be missed and is a free\, no ticket event\, but donations are encouraged. \nLet’s keep live music alive!!
URL:https://keepcolchestercool.co.uk/event/jake-cheek-dean-frost/
LOCATION:10 North Station Rd\, Colchester
ATTACH;FMTTYPE=image/jpeg:https://keepcolchestercool.co.uk/wp-content/uploads/128112_image_621736766_1512834710848890_8269841251899682954_n.jpg
ORGANIZER;CN="Victoria Inn Colchester":MAILTO:noreply@facebookmail_com
END:VEVENT
END:VCALENDAR