BEGIN:VCALENDAR
VERSION:2.0
PRODID:-//Keep Colchester Cool - ECPv6.15.20//NONSGML v1.0//EN
CALSCALE:GREGORIAN
METHOD:PUBLISH
X-WR-CALNAME:Keep Colchester Cool
X-ORIGINAL-URL:https://keepcolchestercool.co.uk
X-WR-CALDESC:Events for Keep Colchester Cool
REFRESH-INTERVAL;VALUE=DURATION:PT1H
X-Robots-Tag:noindex
X-PUBLISHED-TTL:PT1H
BEGIN:VTIMEZONE
TZID:Europe/London
BEGIN:DAYLIGHT
TZOFFSETFROM:+0000
TZOFFSETTO:+0100
TZNAME:BST
DTSTART:20250330T010000
END:DAYLIGHT
BEGIN:STANDARD
TZOFFSETFROM:+0100
TZOFFSETTO:+0000
TZNAME:GMT
DTSTART:20251026T010000
END:STANDARD
BEGIN:DAYLIGHT
TZOFFSETFROM:+0000
TZOFFSETTO:+0100
TZNAME:BST
DTSTART:20260329T010000
END:DAYLIGHT
BEGIN:STANDARD
TZOFFSETFROM:+0100
TZOFFSETTO:+0000
TZNAME:GMT
DTSTART:20261025T010000
END:STANDARD
BEGIN:DAYLIGHT
TZOFFSETFROM:+0000
TZOFFSETTO:+0100
TZNAME:BST
DTSTART:20270328T010000
END:DAYLIGHT
BEGIN:STANDARD
TZOFFSETFROM:+0100
TZOFFSETTO:+0000
TZNAME:GMT
DTSTART:20271031T010000
END:STANDARD
END:VTIMEZONE
BEGIN:VEVENT
DTSTART;TZID=Europe/London:20260312T193000
DTEND;TZID=Europe/London:20260312T223000
DTSTAMP:20260424T041806
CREATED:20260210T071035Z
LAST-MODIFIED:20260226T071213Z
UID:128278-1773343800-1773354600@keepcolchestercool.co.uk
SUMMARY:Jake Cheek
DESCRIPTION:Jake Cheek performs live at Three Wise Monkeys\, Colchester\, with support from Jake Martin\, George Gadd\, and Daniel Stephen Turner. \nJake Cheek – Local legend Jake Cheek may be best known for his amazing bass tones his other project “Shed” but Jake is also a jaw dropping solo artist in his own right and a must see act! \nJake Martin – Known far and wide for his acoustic folk punk stylings Jake Martin is now a proud Colchester native! Fresh off supporting Pet Needs across Germany This will be Jake 1st show back in the UK and his last Colchester date for some time so don’t miss out! \nGeorge Gadd – Nottinghams finest! This guy is one of those acts you have to see before you die! If Weezer and Frank Turner had an overachieving child it would be George Gadd! This is his first trip to Colchester so get down early and make hime feel welcome! \nDaniel Stephen Turner – Kicking off the evening is another Colchester legend in the making! Daniel is another act that always stands out! An amazing songwriter and a wonderful human! \nDate: Thursday\, 12 March 2026Venue: Three Wise Monkeys\, ColchesterDoors: 7:30pmAges: 18+ \nPlease note that access to the top floor of Three Wise Monkeys does not have a lift\, but there are rest opportunities between each flight of stairs. \nViewer discretion is advised: This show may potentially contain flashing and strobing lighting effects. \nRefund policy: We are unable to process any ticket refunds within 7 days of the event.
URL:https://keepcolchestercool.co.uk/event/jake-cheek/
LOCATION:60 High Street\, CO1 1DN Colchester\, United Kingdom\, 60 High Street\, CO1 1DN Colchester\, United Kingdom
ATTACH;FMTTYPE=image/jpeg:https://keepcolchestercool.co.uk/wp-content/uploads/128278_image_626775993_1313966870766659_8085576508998692940_n.jpg
ORGANIZER;CN="Three Wise Monkeys Colchester":MAILTO:noreply@facebookmail_com
END:VEVENT
END:VCALENDAR