BEGIN:VCALENDAR
VERSION:2.0
PRODID:-//Keep Colchester Cool - ECPv6.15.20//NONSGML v1.0//EN
CALSCALE:GREGORIAN
METHOD:PUBLISH
X-WR-CALNAME:Keep Colchester Cool
X-ORIGINAL-URL:https://keepcolchestercool.co.uk
X-WR-CALDESC:Events for Keep Colchester Cool
REFRESH-INTERVAL;VALUE=DURATION:PT1H
X-Robots-Tag:noindex
X-PUBLISHED-TTL:PT1H
BEGIN:VTIMEZONE
TZID:Europe/London
BEGIN:DAYLIGHT
TZOFFSETFROM:+0000
TZOFFSETTO:+0100
TZNAME:BST
DTSTART:20240331T010000
END:DAYLIGHT
BEGIN:STANDARD
TZOFFSETFROM:+0100
TZOFFSETTO:+0000
TZNAME:GMT
DTSTART:20241027T010000
END:STANDARD
BEGIN:DAYLIGHT
TZOFFSETFROM:+0000
TZOFFSETTO:+0100
TZNAME:BST
DTSTART:20250330T010000
END:DAYLIGHT
BEGIN:STANDARD
TZOFFSETFROM:+0100
TZOFFSETTO:+0000
TZNAME:GMT
DTSTART:20251026T010000
END:STANDARD
BEGIN:DAYLIGHT
TZOFFSETFROM:+0000
TZOFFSETTO:+0100
TZNAME:BST
DTSTART:20260329T010000
END:DAYLIGHT
BEGIN:STANDARD
TZOFFSETFROM:+0100
TZOFFSETTO:+0000
TZNAME:GMT
DTSTART:20261025T010000
END:STANDARD
END:VTIMEZONE
BEGIN:VEVENT
DTSTART;TZID=Europe/London:20250920T193000
DTEND;TZID=Europe/London:20250920T223000
DTSTAMP:20260424T210924
CREATED:20250702T071021Z
LAST-MODIFIED:20250920T071024Z
UID:125210-1758396600-1758407400@keepcolchestercool.co.uk
SUMMARY:James Bond Concert Spectacular - Charter Hall\, Colchester
DESCRIPTION:Q The Music’s James Bond Concert Spectacular is the world’s finest and most critically acclaimed tribute to the music of James Bond. \nCelebrating more than 20 years as the first original and pioneering Bond concert\, they are known for their stirring emotional and adrenaline-fueled performances\, mixed in with superb musicianship and flair. Indeed\, every fan club around the world recognises them as the best and finest performances of the songs since the originals. \nFocusing not only on theme songs\, the show also pays homage to the complete canon covering chase music\, incidental cues and suites from across the series.  \nSome of the most notable praise has come from hugely influential Bond related stars including: \nFive-time Bond composer David Arnold: “They do a phenomenal job” \nFormer James Bond actor George Lazenby: “They did John Barry proud” \nSir Roger Moore’s Office (following his official Memorial at Pinewood Studios): “They helped make a wonderful day an extraordinary day” \nSteven Saltzman (son of legendary founding Bond producer Harry Saltzman): “You did my Dad proud” \nEven The Times national newspaper raved about their performance in a 4-star review of their West End debut: “It’s hard to imagine this music being served better. Simply stunning.”  \nBecoming synonymous with the top Bond events around the world\, in 2019 they performed at an event with George Lazenby: the 50th anniversary event for On Her Majesty’s Secret Service\, held at Piz Gloria in the Swiss Alps. In 2019 they had the honour to provide the music at Sir Roger Moore’s official memorial event at Pinewood Studios. Appearing in London’s West End multiple times they have sold out several of the most prestigious venues to huge critical acclaim. \nThe show features all the Bond songs such as Goldfinger\, Diamonds Are Forever\, Live and Let Die and Nobody Does It Better – performed by musicians taken from the UK’s leading orchestras\, sessions and shows. Caroline Bliss\, who played Moneypenny in The Living Daylights and Licence To Kill\, will guide you through the concert as compere\, sharing the odd anecdote about her time working in this legendary series. \nWith stunning singing\, an informative compere\, and a show full of iconic tunes performed to an unparalleled level of detail it really is a night of the highest quality guaranteed. As the only James Bond concert created by die-hard Bond fans\, for Bond fans\, by people who understand the music better than anyone else: you won’t want to miss it.
URL:https://keepcolchestercool.co.uk/event/james-bond-concert-spectacular-charter-hall-colchester/
LOCATION:Colchester Charter Hall\, Colchester Charter Hall
END:VEVENT
END:VCALENDAR