BEGIN:VCALENDAR
VERSION:2.0
PRODID:-//Keep Colchester Cool - ECPv6.15.20//NONSGML v1.0//EN
CALSCALE:GREGORIAN
METHOD:PUBLISH
X-WR-CALNAME:Keep Colchester Cool
X-ORIGINAL-URL:https://keepcolchestercool.co.uk
X-WR-CALDESC:Events for Keep Colchester Cool
REFRESH-INTERVAL;VALUE=DURATION:PT1H
X-Robots-Tag:noindex
X-PUBLISHED-TTL:PT1H
BEGIN:VTIMEZONE
TZID:Europe/London
BEGIN:DAYLIGHT
TZOFFSETFROM:+0000
TZOFFSETTO:+0100
TZNAME:BST
DTSTART:20240331T010000
END:DAYLIGHT
BEGIN:STANDARD
TZOFFSETFROM:+0100
TZOFFSETTO:+0000
TZNAME:GMT
DTSTART:20241027T010000
END:STANDARD
BEGIN:DAYLIGHT
TZOFFSETFROM:+0000
TZOFFSETTO:+0100
TZNAME:BST
DTSTART:20250330T010000
END:DAYLIGHT
BEGIN:STANDARD
TZOFFSETFROM:+0100
TZOFFSETTO:+0000
TZNAME:GMT
DTSTART:20251026T010000
END:STANDARD
BEGIN:DAYLIGHT
TZOFFSETFROM:+0000
TZOFFSETTO:+0100
TZNAME:BST
DTSTART:20260329T010000
END:DAYLIGHT
BEGIN:STANDARD
TZOFFSETFROM:+0100
TZOFFSETTO:+0000
TZNAME:GMT
DTSTART:20261025T010000
END:STANDARD
END:VTIMEZONE
BEGIN:VEVENT
DTSTART;TZID=Europe/London:20250510T150000
DTEND;TZID=Europe/London:20250510T163000
DTSTAMP:20260426T015123
CREATED:20250501T071030Z
LAST-MODIFIED:20250510T070959Z
UID:123955-1746889200-1746894600@keepcolchestercool.co.uk
SUMMARY:JANE'S WALK 19: ​Jaywick ​Sands Magical Mystery History Walk
DESCRIPTION:Join longtime Jaywick resident\, community ​motivator and ​TV pundit​\, Danny Shine On Sloggett\, for ​a walk along ​Jaywick’s seafront​ and hear from the people who live there: “​We’ve been left out for years. My job in life is for us not to be left out any more. Everywhere you go in life has culture and class​\, and Jaywick has as well. It needs investment and infrastructure and jobs​. ​This walk is about our memories of Jaywick and our hopes for its future. We need to make Jaywick the Summer Bay of England!​ \nMeet/End:​ ​3pm. St Christopher’s Church​\, ​Jaywick\, CO15 2HR (1​.5m\, 1.5hrs).  \nACCESSIBILITY: hard-surfaced and step-free all the way\, and low gradient except for one ramped section up on to the seawall.
URL:https://keepcolchestercool.co.uk/event/janes-walk-19-jaywick-sands-magical-mystery-history-walk/
LOCATION:CO15 2HR\, CO15 2HR
ORGANIZER;CN="Jane's Walk Colchester":MAILTO:noreply@facebookmail_com
END:VEVENT
END:VCALENDAR