BEGIN:VCALENDAR
VERSION:2.0
PRODID:-//Keep Colchester Cool - ECPv6.15.20//NONSGML v1.0//EN
CALSCALE:GREGORIAN
METHOD:PUBLISH
X-WR-CALNAME:Keep Colchester Cool
X-ORIGINAL-URL:https://keepcolchestercool.co.uk
X-WR-CALDESC:Events for Keep Colchester Cool
REFRESH-INTERVAL;VALUE=DURATION:PT1H
X-Robots-Tag:noindex
X-PUBLISHED-TTL:PT1H
BEGIN:VTIMEZONE
TZID:Europe/London
BEGIN:DAYLIGHT
TZOFFSETFROM:+0000
TZOFFSETTO:+0100
TZNAME:BST
DTSTART:20240331T010000
END:DAYLIGHT
BEGIN:STANDARD
TZOFFSETFROM:+0100
TZOFFSETTO:+0000
TZNAME:GMT
DTSTART:20241027T010000
END:STANDARD
BEGIN:DAYLIGHT
TZOFFSETFROM:+0000
TZOFFSETTO:+0100
TZNAME:BST
DTSTART:20250330T010000
END:DAYLIGHT
BEGIN:STANDARD
TZOFFSETFROM:+0100
TZOFFSETTO:+0000
TZNAME:GMT
DTSTART:20251026T010000
END:STANDARD
BEGIN:DAYLIGHT
TZOFFSETFROM:+0000
TZOFFSETTO:+0100
TZNAME:BST
DTSTART:20260329T010000
END:DAYLIGHT
BEGIN:STANDARD
TZOFFSETFROM:+0100
TZOFFSETTO:+0000
TZNAME:GMT
DTSTART:20261025T010000
END:STANDARD
END:VTIMEZONE
BEGIN:VEVENT
DTSTART;TZID=Europe/London:20250926T190000
DTEND;TZID=Europe/London:20250926T213000
DTSTAMP:20260424T191419
CREATED:20250212T071037Z
LAST-MODIFIED:20250926T071016Z
UID:122428-1758913200-1758922200@keepcolchestercool.co.uk
SUMMARY:Jay Morton Live: Colchester
DESCRIPTION:Sign Up Now for Ticket Information ⬇️https://shorturl.at/61NWv \nFormer SAS Operator\, 2x Everest Summiteer\, Expedition Leader & Author Jay Morton is ready to reveal all in his first ever live public shows. Get ready for a unique insight into his experiences as part of the most elite special ops team in the world as well as some of the incredible stories from expeditions since leaving the forces. \nExpect:💥 Explosive stories from life as an elite SAS operative💥 Stories from the summit of Everest 💥 Live Q&A Session💥 Meet & Greet Opportunities \n*Due to the nature of this event\, attendees must be strictly 16+
URL:https://keepcolchestercool.co.uk/event/jay-morton-live-colchester/
LOCATION:Colchester
ORGANIZER;CN="Jay Morton":MAILTO:noreply@facebookmail.com
END:VEVENT
END:VCALENDAR