BEGIN:VCALENDAR
VERSION:2.0
PRODID:-//Keep Colchester Cool - ECPv6.15.20//NONSGML v1.0//EN
CALSCALE:GREGORIAN
METHOD:PUBLISH
X-WR-CALNAME:Keep Colchester Cool
X-ORIGINAL-URL:https://keepcolchestercool.co.uk
X-WR-CALDESC:Events for Keep Colchester Cool
REFRESH-INTERVAL;VALUE=DURATION:PT1H
X-Robots-Tag:noindex
X-PUBLISHED-TTL:PT1H
BEGIN:VTIMEZONE
TZID:Europe/London
BEGIN:DAYLIGHT
TZOFFSETFROM:+0000
TZOFFSETTO:+0100
TZNAME:BST
DTSTART:20250330T010000
END:DAYLIGHT
BEGIN:STANDARD
TZOFFSETFROM:+0100
TZOFFSETTO:+0000
TZNAME:GMT
DTSTART:20251026T010000
END:STANDARD
BEGIN:DAYLIGHT
TZOFFSETFROM:+0000
TZOFFSETTO:+0100
TZNAME:BST
DTSTART:20260329T010000
END:DAYLIGHT
BEGIN:STANDARD
TZOFFSETFROM:+0100
TZOFFSETTO:+0000
TZNAME:GMT
DTSTART:20261025T010000
END:STANDARD
BEGIN:DAYLIGHT
TZOFFSETFROM:+0000
TZOFFSETTO:+0100
TZNAME:BST
DTSTART:20270328T010000
END:DAYLIGHT
BEGIN:STANDARD
TZOFFSETFROM:+0100
TZOFFSETTO:+0000
TZNAME:GMT
DTSTART:20271031T010000
END:STANDARD
END:VTIMEZONE
BEGIN:VEVENT
DTSTART;TZID=Europe/London:20260317T193000
DTEND;TZID=Europe/London:20260317T223000
DTSTAMP:20260424T043633
CREATED:20260122T071058Z
LAST-MODIFIED:20260226T071215Z
UID:127970-1773775800-1773786600@keepcolchestercool.co.uk
SUMMARY:JDS live @ The Greyhound Wivenhoe (St Patricks Day party)
DESCRIPTION:St Patricks Day 2026 @ The Greyhound Wivenhoe
URL:https://keepcolchestercool.co.uk/event/jds-live-the-greyhound-wivenhoe-st-patricks-day-party/
LOCATION:Greyhound\, Greyhound
ATTACH;FMTTYPE=image/jpeg:https://keepcolchestercool.co.uk/wp-content/uploads/127970_image_569051299_1360308112771287_7511183065210810579_n.jpg
END:VEVENT
END:VCALENDAR