BEGIN:VCALENDAR
VERSION:2.0
PRODID:-//Keep Colchester Cool - ECPv6.15.20//NONSGML v1.0//EN
CALSCALE:GREGORIAN
METHOD:PUBLISH
X-WR-CALNAME:Keep Colchester Cool
X-ORIGINAL-URL:https://keepcolchestercool.co.uk
X-WR-CALDESC:Events for Keep Colchester Cool
REFRESH-INTERVAL;VALUE=DURATION:PT1H
X-Robots-Tag:noindex
X-PUBLISHED-TTL:PT1H
BEGIN:VTIMEZONE
TZID:Europe/London
BEGIN:DAYLIGHT
TZOFFSETFROM:+0000
TZOFFSETTO:+0100
TZNAME:BST
DTSTART:20250330T010000
END:DAYLIGHT
BEGIN:STANDARD
TZOFFSETFROM:+0100
TZOFFSETTO:+0000
TZNAME:GMT
DTSTART:20251026T010000
END:STANDARD
BEGIN:DAYLIGHT
TZOFFSETFROM:+0000
TZOFFSETTO:+0100
TZNAME:BST
DTSTART:20260329T010000
END:DAYLIGHT
BEGIN:STANDARD
TZOFFSETFROM:+0100
TZOFFSETTO:+0000
TZNAME:GMT
DTSTART:20261025T010000
END:STANDARD
BEGIN:DAYLIGHT
TZOFFSETFROM:+0000
TZOFFSETTO:+0100
TZNAME:BST
DTSTART:20270328T010000
END:DAYLIGHT
BEGIN:STANDARD
TZOFFSETFROM:+0100
TZOFFSETTO:+0000
TZNAME:GMT
DTSTART:20271031T010000
END:STANDARD
END:VTIMEZONE
BEGIN:VEVENT
DTSTART;TZID=Europe/London:20260412T193000
DTEND;TZID=Europe/London:20260412T213000
DTSTAMP:20260424T012058
CREATED:20260113T071049Z
LAST-MODIFIED:20260226T071224Z
UID:127808-1776022200-1776029400@keepcolchestercool.co.uk
SUMMARY:Jo Harman @ The Music Mix: ". . . an incredibly believable and soulful singer." - Echoes
DESCRIPTION:In the age of beige\, when the norm is to suppress the spirit in a deluge of conservatism and political correctness\, it is a raw and heart-warming sight to witness\, but Jo Harman can convey a song so soulfully that it elicits such an overtly emotional response. \n​An artist who sings straight from the heart\, with pure\, unadulterated soulfulness and sincerity devoid of any histrionics\, Jo was proclaimed “the UK’s finest female soul blues voice” by The Daily Mirror\, while Classic Rock & Blues said\, “She writes lip-biting\, beautiful songs.” \n​For this intimate\, stripped-back trio show\, performed exclusively for The Music Mix\, Jo is accompanied by two world-class musicians in Emily Francis (Toyah Willcox\, Andrea Bocelli\, Rumer\, Alexandra Burke) and Nat Martin (Robert Fripp\, Galliano\, Thomas Dolby).  \n​It has been a decade since Jo travelled to Nashville to record her most recent body of original work\, the highly acclaimed People We Become\, featuring Michael McDonald (whose other duet partners number Aretha Franklin\, Carly Simon\, and Patti LaBelle)\, yet her reputation and standing have only continued to grow in the years since\, confirmed by her 2025 Female Vocalist of the Year nomination by Soul Tracks. \nEven a global pandemic and the arrival of motherhood have done little to slow Jo’s momentum\, and in a crowded music landscape\, industry and audiences alike increasingly recognise her as a UK artist of rare authenticity\, depth\, and skill. \n​During this period\, Jo has felt a renewed pull towards Black American music of the late 1960s and early 1970s – songs that offered powerful commentary on social injustice. More than half a century on\, their themes resonate strongly with her own concerns about society in today’s troubled times. \n​This has led Jo to record her own interpretations of Donny Hathaway’s Someday We’ll All Be Free\, then Andy Grammer’s Don’t Give Up On Me\, and now the Ralph MacDonald/William Salter composition Trade Winds – a song whose message she feels profoundly – which completes this trilogy of 70s soul classics\, each chosen for lyrics that speak directly to her deeply held reflections on the present day. \n​All of this comes ahead of plans to finally release new original material from 2026 onwards\, which may – at last – develop into the long-awaited third album. \n​Jo Harman (Vocals)Emily Francis (Keys)Nat Martin (Guitar)​
URL:https://keepcolchestercool.co.uk/event/jo-harman-the-music-mix-an-incredibly-believable-and-soulful-singer-echoes/
LOCATION:Wivenhoe Congregational Church\, 101 High Street\, Colchester\, CO7 9AB\, GB
ATTACH;FMTTYPE=image/jpeg:https://keepcolchestercool.co.uk/wp-content/uploads/127808_image_601871173_4414940935496725_6926885370455049618_n.jpg
ORGANIZER;CN="Steve Wright":MAILTO:noreply@facebookmail_com
END:VEVENT
END:VCALENDAR