BEGIN:VCALENDAR
VERSION:2.0
PRODID:-//Keep Colchester Cool - ECPv6.15.20//NONSGML v1.0//EN
CALSCALE:GREGORIAN
METHOD:PUBLISH
X-WR-CALNAME:Keep Colchester Cool
X-ORIGINAL-URL:https://keepcolchestercool.co.uk
X-WR-CALDESC:Events for Keep Colchester Cool
REFRESH-INTERVAL;VALUE=DURATION:PT1H
X-Robots-Tag:noindex
X-PUBLISHED-TTL:PT1H
BEGIN:VTIMEZONE
TZID:Europe/London
BEGIN:DAYLIGHT
TZOFFSETFROM:+0000
TZOFFSETTO:+0100
TZNAME:BST
DTSTART:20240331T010000
END:DAYLIGHT
BEGIN:STANDARD
TZOFFSETFROM:+0100
TZOFFSETTO:+0000
TZNAME:GMT
DTSTART:20241027T010000
END:STANDARD
BEGIN:DAYLIGHT
TZOFFSETFROM:+0000
TZOFFSETTO:+0100
TZNAME:BST
DTSTART:20250330T010000
END:DAYLIGHT
BEGIN:STANDARD
TZOFFSETFROM:+0100
TZOFFSETTO:+0000
TZNAME:GMT
DTSTART:20251026T010000
END:STANDARD
BEGIN:DAYLIGHT
TZOFFSETFROM:+0000
TZOFFSETTO:+0100
TZNAME:BST
DTSTART:20260329T010000
END:DAYLIGHT
BEGIN:STANDARD
TZOFFSETFROM:+0100
TZOFFSETTO:+0000
TZNAME:GMT
DTSTART:20261025T010000
END:STANDARD
END:VTIMEZONE
BEGIN:VEVENT
DTSTART;TZID=Europe/London:20250926T193000
DTEND;TZID=Europe/London:20250926T223000
DTSTAMP:20260420T000525
CREATED:20241208T071106Z
LAST-MODIFIED:20250926T071017Z
UID:121010-1758915000-1758925800@keepcolchestercool.co.uk
SUMMARY:John Hackett Band + Heather Findlay at Colchester Arts Centre
DESCRIPTION:JHB are delighted to be returning to Colchester Arts Centre after a gap of seven years.Heather Findlay will be adding her wonderful voice to the occasion.Good people of Essex\, take note!
URL:https://keepcolchestercool.co.uk/event/john-hackett-band-heather-findlay-at-colchester-arts-centre/
LOCATION:Colchester Arts Centre\, Colchester Arts Centre
ORGANIZER;CN="John Hackett Band":MAILTO:noreply@facebookmail.com
END:VEVENT
END:VCALENDAR