BEGIN:VCALENDAR
VERSION:2.0
PRODID:-//Keep Colchester Cool - ECPv6.15.20//NONSGML v1.0//EN
CALSCALE:GREGORIAN
METHOD:PUBLISH
X-WR-CALNAME:Keep Colchester Cool
X-ORIGINAL-URL:https://keepcolchestercool.co.uk
X-WR-CALDESC:Events for Keep Colchester Cool
REFRESH-INTERVAL;VALUE=DURATION:PT1H
X-Robots-Tag:noindex
X-PUBLISHED-TTL:PT1H
BEGIN:VTIMEZONE
TZID:Europe/London
BEGIN:DAYLIGHT
TZOFFSETFROM:+0000
TZOFFSETTO:+0100
TZNAME:BST
DTSTART:20240331T010000
END:DAYLIGHT
BEGIN:STANDARD
TZOFFSETFROM:+0100
TZOFFSETTO:+0000
TZNAME:GMT
DTSTART:20241027T010000
END:STANDARD
BEGIN:DAYLIGHT
TZOFFSETFROM:+0000
TZOFFSETTO:+0100
TZNAME:BST
DTSTART:20250330T010000
END:DAYLIGHT
BEGIN:STANDARD
TZOFFSETFROM:+0100
TZOFFSETTO:+0000
TZNAME:GMT
DTSTART:20251026T010000
END:STANDARD
BEGIN:DAYLIGHT
TZOFFSETFROM:+0000
TZOFFSETTO:+0100
TZNAME:BST
DTSTART:20260329T010000
END:DAYLIGHT
BEGIN:STANDARD
TZOFFSETFROM:+0100
TZOFFSETTO:+0000
TZNAME:GMT
DTSTART:20261025T010000
END:STANDARD
END:VTIMEZONE
BEGIN:VEVENT
DTSTART;TZID=Europe/London:20251103T193000
DTEND;TZID=Europe/London:20251103T223000
DTSTAMP:20260423T150547
CREATED:20251025T071025Z
LAST-MODIFIED:20251103T071020Z
UID:126741-1762198200-1762209000@keepcolchestercool.co.uk
SUMMARY:Jon Wilks
DESCRIPTION:Tickets £16.50.Doors open 7.30pm\, starts 8pm.This gig is for a seated audience. \nJon is a much admired finger-picking folk guitarist and singer in the Martin Carthy/Martin Simpson vein. His upcoming 5th solo album (due out Autumn 2025) promises an absorbing blend of historical richness\, trad influences and Jon’s own sublime song writing. \n‘Wilks proves once again what a stand-out talent he really is. There is an honesty and compassion in Wilks’s writing and performance\, which is entirely charming.’ KlofMag \nLauded by Folk Radio (KLOF) as ‘a rather special performer with an authentic and abiding love of traditional song’\, Jon is a prominent fingerpicking guitarist and singer who performs traditional English folk songs and broadside ballads\, as well as his own songs. His talent has been recognised by Guitarist\, one of the world’s biggest guitar magazines\, which featured him as one-to-watch in July 2022. \n‘Very much part of the UK’s living folk tradition\, Wilks excels at reanimating broadside ballads and antique pieces with a scholar’s ear for vernacular and a dashing sense of verve on fingerpicked guitar…. Wilks also showcases a trio of original compositions\, at his eloquent best on poetic Soho encounter Greek Street.’ Uncut Magazine \nJon spent many years overseas\, interviewing renowned musicians and uncovering their stories. His current music highlights his well-developed writing and research skills – expertise Jon refined over his years as a journalist\, serving as editor of Time Out magazine in Tokyo and Abu Dhabi and contributing to The Guardian\, Dazed & Confused\, and many other publications. \nJon has a keen eye and ear for storytelling. During his live shows\, he mixes entertaining folk song performances with fascinating tidbits about the original singers and collectors that he has unearthed during his extensive research on traditional folk music in the UK. \nJon has released four solo albums and one solo EP Before I Knew What Had Begun I Had Already Lost (2023)\, Up the Cut (2021)\, The Trial of Bill Burn Under Martin’s Act (2019) EP\, Midlife (2018)\, Songs from the Attic (2016) He co-arranged and performed tracks on Jackie Oates’s Gracious Wings 2022 album and was a part of Slow Jane\, the quartet that created videos of Nick Drake songs during lockdown. \nwww.jonwilks.onlinehttp://www.facebook.com/jonwilksmusic www.instagram.com/jonwilksmusicwww.youtube.com/channel/UCF4nDwDpihppwR9PT0d2htg \nSupport…The Columbines are a local folk & Americana Trio – Jem\, Lynne and Dorothy. They perform original songs and self-arranged covers sung in 3-part harmony with acoustic instrument accompaniment. “The Columbines have folk roots combining single mic close harmonies (think “O Brother\, Where Art Thou?”) with beautiful acoustic accompaniment such as Mandolin\, Bouzouki\, Cello\, Guitar. Great songs and thoroughly recommended ! “ ~ Suffolk Songwriters.
URL:https://keepcolchestercool.co.uk/event/jon-wilks/
LOCATION:Church St\, CO1 1NF Colchester\, United Kingdom
ORGANIZER;CN="Colchester Arts Centre":MAILTO:noreply@facebookmail_com
END:VEVENT
END:VCALENDAR