BEGIN:VCALENDAR
VERSION:2.0
PRODID:-//Keep Colchester Cool - ECPv6.15.20//NONSGML v1.0//EN
CALSCALE:GREGORIAN
METHOD:PUBLISH
X-WR-CALNAME:Keep Colchester Cool
X-ORIGINAL-URL:https://keepcolchestercool.co.uk
X-WR-CALDESC:Events for Keep Colchester Cool
REFRESH-INTERVAL;VALUE=DURATION:PT1H
X-Robots-Tag:noindex
X-PUBLISHED-TTL:PT1H
BEGIN:VTIMEZONE
TZID:Europe/London
BEGIN:DAYLIGHT
TZOFFSETFROM:+0000
TZOFFSETTO:+0100
TZNAME:BST
DTSTART:20240331T010000
END:DAYLIGHT
BEGIN:STANDARD
TZOFFSETFROM:+0100
TZOFFSETTO:+0000
TZNAME:GMT
DTSTART:20241027T010000
END:STANDARD
BEGIN:DAYLIGHT
TZOFFSETFROM:+0000
TZOFFSETTO:+0100
TZNAME:BST
DTSTART:20250330T010000
END:DAYLIGHT
BEGIN:STANDARD
TZOFFSETFROM:+0100
TZOFFSETTO:+0000
TZNAME:GMT
DTSTART:20251026T010000
END:STANDARD
BEGIN:DAYLIGHT
TZOFFSETFROM:+0000
TZOFFSETTO:+0100
TZNAME:BST
DTSTART:20260329T010000
END:DAYLIGHT
BEGIN:STANDARD
TZOFFSETFROM:+0100
TZOFFSETTO:+0000
TZNAME:GMT
DTSTART:20261025T010000
END:STANDARD
END:VTIMEZONE
BEGIN:VEVENT
DTSTART;TZID=Europe/London:20251129T210000
DTEND;TZID=Europe/London:20251130T000000
DTSTAMP:20260424T155904
CREATED:20251025T071041Z
LAST-MODIFIED:20251130T071053Z
UID:126789-1764450000-1764460800@keepcolchestercool.co.uk
SUMMARY:Juicebox - The Strokes Special
DESCRIPTION:We’re dedicating this month’s Indie Party to The Strokes’ ‘First Impressions Of Earth’ – a mighty album full of Twisters classics is turning 20!  \nYou only live once\, so grab a juicebox and join our resident DJ Roman Atkin as he spins tracks from the album\, alongside your favourite indie classics\, gems\, and dancefloor fillers thoughout the night.  \nBar and Beer Garden open 5pm\, DJ from 9pm\, Free Entry
URL:https://keepcolchestercool.co.uk/event/juicebox-the-strokes-special/
LOCATION:45 North Hill\, CO1 1PY Colchester\, United Kingdom
ORGANIZER;CN="Twisters Bar":MAILTO:noreply@facebookmail_com
END:VEVENT
END:VCALENDAR