BEGIN:VCALENDAR
VERSION:2.0
PRODID:-//Keep Colchester Cool - ECPv6.15.20//NONSGML v1.0//EN
CALSCALE:GREGORIAN
METHOD:PUBLISH
X-WR-CALNAME:Keep Colchester Cool
X-ORIGINAL-URL:https://keepcolchestercool.co.uk
X-WR-CALDESC:Events for Keep Colchester Cool
REFRESH-INTERVAL;VALUE=DURATION:PT1H
X-Robots-Tag:noindex
X-PUBLISHED-TTL:PT1H
BEGIN:VTIMEZONE
TZID:Europe/London
BEGIN:DAYLIGHT
TZOFFSETFROM:+0000
TZOFFSETTO:+0100
TZNAME:BST
DTSTART:20240331T010000
END:DAYLIGHT
BEGIN:STANDARD
TZOFFSETFROM:+0100
TZOFFSETTO:+0000
TZNAME:GMT
DTSTART:20241027T010000
END:STANDARD
BEGIN:DAYLIGHT
TZOFFSETFROM:+0000
TZOFFSETTO:+0100
TZNAME:BST
DTSTART:20250330T010000
END:DAYLIGHT
BEGIN:STANDARD
TZOFFSETFROM:+0100
TZOFFSETTO:+0000
TZNAME:GMT
DTSTART:20251026T010000
END:STANDARD
BEGIN:DAYLIGHT
TZOFFSETFROM:+0000
TZOFFSETTO:+0100
TZNAME:BST
DTSTART:20260329T010000
END:DAYLIGHT
BEGIN:STANDARD
TZOFFSETFROM:+0100
TZOFFSETTO:+0000
TZNAME:GMT
DTSTART:20261025T010000
END:STANDARD
END:VTIMEZONE
BEGIN:VEVENT
DTSTART;TZID=Europe/London:20251108T200000
DTEND;TZID=Europe/London:20251109T040000
DTSTAMP:20260424T141312
CREATED:20251025T071029Z
LAST-MODIFIED:20251109T071005Z
UID:126754-1762632000-1762660800@keepcolchestercool.co.uk
SUMMARY:LoW FReQUeNCY - THE OLD SKOOL CHRONICLES
DESCRIPTION:LoW FReQUeNCY – THE OLD SKOOL CHRONICLES DJ FORCE W/ MC ELMO (OSCARS SET)WORZAL B2B SW1 W/ MC DURACELL (MINDWARP SET)CYBERDOG (JOHNNIE FISHER) (SRICTLY UNDERGROUND SET)SCOUNDRELME & MY PALUNIQUES N SUPERMASE OLLIE DURACELL B2B PARKERLUKIE Bhttps://www.skiddle.com/e/41452760
URL:https://keepcolchestercool.co.uk/event/low-frequency-the-old-skool-chronicles/
LOCATION:Truth Colchester\, 8 Crouch St\, Colchester\, CO3 3ES\, GB
ORGANIZER;CN="LoW FReQUEnCY PRoMOTIoNS":MAILTO:noreply@facebookmail.com
END:VEVENT
END:VCALENDAR