BEGIN:VCALENDAR
VERSION:2.0
PRODID:-//Keep Colchester Cool - ECPv6.15.20//NONSGML v1.0//EN
CALSCALE:GREGORIAN
METHOD:PUBLISH
X-WR-CALNAME:Keep Colchester Cool
X-ORIGINAL-URL:https://keepcolchestercool.co.uk
X-WR-CALDESC:Events for Keep Colchester Cool
REFRESH-INTERVAL;VALUE=DURATION:PT1H
X-Robots-Tag:noindex
X-PUBLISHED-TTL:PT1H
BEGIN:VTIMEZONE
TZID:Europe/London
BEGIN:DAYLIGHT
TZOFFSETFROM:+0000
TZOFFSETTO:+0100
TZNAME:BST
DTSTART:20250330T010000
END:DAYLIGHT
BEGIN:STANDARD
TZOFFSETFROM:+0100
TZOFFSETTO:+0000
TZNAME:GMT
DTSTART:20251026T010000
END:STANDARD
BEGIN:DAYLIGHT
TZOFFSETFROM:+0000
TZOFFSETTO:+0100
TZNAME:BST
DTSTART:20260329T010000
END:DAYLIGHT
BEGIN:STANDARD
TZOFFSETFROM:+0100
TZOFFSETTO:+0000
TZNAME:GMT
DTSTART:20261025T010000
END:STANDARD
BEGIN:DAYLIGHT
TZOFFSETFROM:+0000
TZOFFSETTO:+0100
TZNAME:BST
DTSTART:20270328T010000
END:DAYLIGHT
BEGIN:STANDARD
TZOFFSETFROM:+0100
TZOFFSETTO:+0000
TZNAME:GMT
DTSTART:20271031T010000
END:STANDARD
END:VTIMEZONE
BEGIN:VEVENT
DTSTART;TZID=Europe/London:20261009T193000
DTEND;TZID=Europe/London:20261009T223000
DTSTAMP:20260424T165655
CREATED:20260224T071249Z
LAST-MODIFIED:20260226T071237Z
UID:129268-1791574200-1791585000@keepcolchestercool.co.uk
SUMMARY:Luther Live & Velvet Voices
DESCRIPTION:Luther Live & Velvet Voices Step into a world of soul\, romance\, and unforgettable grooves with Luther Live & Velvet Voices – the ultimate live theatre experience celebrating the golden era of R’n’B. This electrifying show brings the smooth sounds of Luther Vandross\, Alexander O’Neal and many others to life\, with powerhouse vocals\, a sensational live band\, and all the emotion you’d expect from the voices that defined a generation.But the magic doesn’t stop there. Luther Live & Velvet Voices also pays tribute to a roll call of R’n’B royalty\, including Marvin Gaye\, Bobby Brown\, and George Benson – delivering hit after hit from the 80s and 90s that’ll have audiences dancing in the aisles and singing every word.Expect to hear ‘Never Too Much’\, ‘Shine’\, ‘Give Me The Reason’\, ‘Dance With My Father’\, ‘Criticize’\, ‘Saturday Love’\, ‘If You Were Here Tonight’\, ‘Sexual Healing’\, ‘Give Me The Night’ and many many more. Introducing the sensational vocal talents of Gamal John (Britain’s Got Talent gold buzzer rule breaker)Get ready for an unforgettable night of smooth tunes\, sweet harmonies\, and soul-stirring performances. Luther Live & Velvet Voices – where the spirit of classic R’n’B lives on. \n★★★★★ “Absolute Superstar” –AleshaDixon \n★★★★★ “Masterclass”– Simon Cowell  \n★★★★★ “Gobsmacked and Speechless” – Bruno Toniolli \n★★★★★ “Amazing” – Amanda Holden
URL:https://keepcolchestercool.co.uk/event/luther-live-velvet-voices/
LOCATION:Colchester Charter Hall\, Colchester Charter Hall
ATTACH;FMTTYPE=image/jpeg:https://keepcolchestercool.co.uk/wp-content/uploads/129268_image_594286329_122149142876933510_284124342486433367_n.jpg
END:VEVENT
END:VCALENDAR