BEGIN:VCALENDAR
VERSION:2.0
PRODID:-//Keep Colchester Cool - ECPv6.15.20//NONSGML v1.0//EN
CALSCALE:GREGORIAN
METHOD:PUBLISH
X-WR-CALNAME:Keep Colchester Cool
X-ORIGINAL-URL:https://keepcolchestercool.co.uk
X-WR-CALDESC:Events for Keep Colchester Cool
REFRESH-INTERVAL;VALUE=DURATION:PT1H
X-Robots-Tag:noindex
X-PUBLISHED-TTL:PT1H
BEGIN:VTIMEZONE
TZID:Europe/London
BEGIN:DAYLIGHT
TZOFFSETFROM:+0000
TZOFFSETTO:+0100
TZNAME:BST
DTSTART:20240331T010000
END:DAYLIGHT
BEGIN:STANDARD
TZOFFSETFROM:+0100
TZOFFSETTO:+0000
TZNAME:GMT
DTSTART:20241027T010000
END:STANDARD
BEGIN:DAYLIGHT
TZOFFSETFROM:+0000
TZOFFSETTO:+0100
TZNAME:BST
DTSTART:20250330T010000
END:DAYLIGHT
BEGIN:STANDARD
TZOFFSETFROM:+0100
TZOFFSETTO:+0000
TZNAME:GMT
DTSTART:20251026T010000
END:STANDARD
BEGIN:DAYLIGHT
TZOFFSETFROM:+0000
TZOFFSETTO:+0100
TZNAME:BST
DTSTART:20260329T010000
END:DAYLIGHT
BEGIN:STANDARD
TZOFFSETFROM:+0100
TZOFFSETTO:+0000
TZNAME:GMT
DTSTART:20261025T010000
END:STANDARD
END:VTIMEZONE
BEGIN:VEVENT
DTSTART;TZID=Europe/London:20251114T184500
DTEND;TZID=Europe/London:20251114T230000
DTSTAMP:20260424T150833
CREATED:20251025T071031Z
LAST-MODIFIED:20251114T071023Z
UID:126757-1763145900-1763161200@keepcolchestercool.co.uk
SUMMARY:Magic The Gathering Avatar The Last Airbender Pre-Release Event
DESCRIPTION:Whether you’re taking your first steps into Magic\, finishing up your Standard deck\, or diving deep into Modern\, Commander\, and more—Magic: The Gathering Avatar The Last Airbender is here\, come play and pick up this set early. \nAvatar The Last Airbender Prerelease is coming and we will be running 3 pre-release events for this set new other universe set in the magic timeline. \nWhat you get \nFor each event\, you’ll receive a Avatar The Last Airbender Prerelease Kit which contains:6 Avatar The Last Airbender Play Booster Packs1 year-stamped rare or mythic promo card in foil A Spindown D20 to track your life totalA handy deck box to help transport and store your deck \nAim of the day is to build a Minimum of a 40 card deck with the boosters you get and compete in swiss rounds to find a winner (Land boxes are provided so all you need to bring is you). \nEvery player will receive an extra booster at the end of the event for playing and another is put into the prize pot\, 1 booster for each player in the pre-release event. \nStart time: 6:45pmFinish Time 11:00pmCost £40.00 \nPlease note all of these events have limited spaces of 50 people\, so to avoid missing out please either click attend on this event\, come in and speak to a member of staff of call us on 01206 561912 to make sure you don’t miss out.
URL:https://keepcolchestercool.co.uk/event/magic-the-gathering-avatar-the-last-airbender-pre-release-event/
LOCATION:ACE Comics\, 42 Culver Street East\, Colchester\, CO1 1LE\, GB
ORGANIZER;CN="Glenn Richardson":MAILTO:noreply@facebookmail_com
END:VEVENT
END:VCALENDAR