BEGIN:VCALENDAR
VERSION:2.0
PRODID:-//Keep Colchester Cool - ECPv6.15.20//NONSGML v1.0//EN
CALSCALE:GREGORIAN
METHOD:PUBLISH
X-WR-CALNAME:Keep Colchester Cool
X-ORIGINAL-URL:https://keepcolchestercool.co.uk
X-WR-CALDESC:Events for Keep Colchester Cool
REFRESH-INTERVAL;VALUE=DURATION:PT1H
X-Robots-Tag:noindex
X-PUBLISHED-TTL:PT1H
BEGIN:VTIMEZONE
TZID:Europe/London
BEGIN:DAYLIGHT
TZOFFSETFROM:+0000
TZOFFSETTO:+0100
TZNAME:BST
DTSTART:20240331T010000
END:DAYLIGHT
BEGIN:STANDARD
TZOFFSETFROM:+0100
TZOFFSETTO:+0000
TZNAME:GMT
DTSTART:20241027T010000
END:STANDARD
BEGIN:DAYLIGHT
TZOFFSETFROM:+0000
TZOFFSETTO:+0100
TZNAME:BST
DTSTART:20250330T010000
END:DAYLIGHT
BEGIN:STANDARD
TZOFFSETFROM:+0100
TZOFFSETTO:+0000
TZNAME:GMT
DTSTART:20251026T010000
END:STANDARD
BEGIN:DAYLIGHT
TZOFFSETFROM:+0000
TZOFFSETTO:+0100
TZNAME:BST
DTSTART:20260329T010000
END:DAYLIGHT
BEGIN:STANDARD
TZOFFSETFROM:+0100
TZOFFSETTO:+0000
TZNAME:GMT
DTSTART:20261025T010000
END:STANDARD
END:VTIMEZONE
BEGIN:VEVENT
DTSTART;TZID=Europe/London:20250613T193000
DTEND;TZID=Europe/London:20250613T223000
DTSTAMP:20260421T101537
CREATED:20250522T071020Z
LAST-MODIFIED:20250613T070957Z
UID:124438-1749843000-1749853800@keepcolchestercool.co.uk
SUMMARY:Mathew Horne: In Conversation! *
DESCRIPTION:Tickets £23.50.Doors open 7.30pm\, starts 8pm.This is for a seated audience.  \nA Colchester Arts Centre Exclusive! \nWe’re talking all things Gavin & Stacey at this very special event with none other than its lead\, Mathew Horne! \nIt wasn’t long after audiences were first introduced to Gavin\, Stacey\, Smithy\, Pam\, Mick and Uncle Bryn that the show became the nation’s best loved series; with its endlessly quotable lines\, charming (and sometimes very surprising!) storylines and its lovable larger-than-life characters\, audiences were instantly beguiled by the critically lauded BBC sitcom. Through many twists and turns\, and countless moments of hilarity\, creators Ruth Jones and James Corden gave us three series of the show and two Christmas Day specials\, the latter of which – the series finale – was the best watched programme on British television on the day. \nFor the very first time since the show’s finale\, Mathew Horne is sitting down in front of a live audience\, in conversation about his Gavin & Stacey journey – from his favourite moments\, behind the scenes anecdotes as well the show’s impact on his own day-to-day life. We’ll also of course be touching on Mathew’s other work including his comedy work with Catherine Tate and his working relationship with James Corden. \nBook now to attend this very special event and avoid disappointment!
URL:https://keepcolchestercool.co.uk/event/mathew-horne-in-conversation/
LOCATION:Church St\, CO1 1NF Colchester\, United Kingdom
ORGANIZER;CN="Colchester Arts Centre":MAILTO:noreply@facebookmail_com
END:VEVENT
END:VCALENDAR