BEGIN:VCALENDAR
VERSION:2.0
PRODID:-//Keep Colchester Cool - ECPv6.15.20//NONSGML v1.0//EN
CALSCALE:GREGORIAN
METHOD:PUBLISH
X-WR-CALNAME:Keep Colchester Cool
X-ORIGINAL-URL:https://keepcolchestercool.co.uk
X-WR-CALDESC:Events for Keep Colchester Cool
REFRESH-INTERVAL;VALUE=DURATION:PT1H
X-Robots-Tag:noindex
X-PUBLISHED-TTL:PT1H
BEGIN:VTIMEZONE
TZID:Europe/London
BEGIN:DAYLIGHT
TZOFFSETFROM:+0000
TZOFFSETTO:+0100
TZNAME:BST
DTSTART:20240331T010000
END:DAYLIGHT
BEGIN:STANDARD
TZOFFSETFROM:+0100
TZOFFSETTO:+0000
TZNAME:GMT
DTSTART:20241027T010000
END:STANDARD
BEGIN:DAYLIGHT
TZOFFSETFROM:+0000
TZOFFSETTO:+0100
TZNAME:BST
DTSTART:20250330T010000
END:DAYLIGHT
BEGIN:STANDARD
TZOFFSETFROM:+0100
TZOFFSETTO:+0000
TZNAME:GMT
DTSTART:20251026T010000
END:STANDARD
BEGIN:DAYLIGHT
TZOFFSETFROM:+0000
TZOFFSETTO:+0100
TZNAME:BST
DTSTART:20260329T010000
END:DAYLIGHT
BEGIN:STANDARD
TZOFFSETFROM:+0100
TZOFFSETTO:+0000
TZNAME:GMT
DTSTART:20261025T010000
END:STANDARD
END:VTIMEZONE
BEGIN:VEVENT
DTSTART;TZID=Europe/London:20251111T193000
DTEND;TZID=Europe/London:20251111T220000
DTSTAMP:20260424T160417
CREATED:20250827T071025Z
LAST-MODIFIED:20251111T071028Z
UID:125962-1762889400-1762898400@keepcolchestercool.co.uk
SUMMARY:Me\, Myself and Eye - Talk by Jonathan Vaines LRPS CPAGB AFIAP
DESCRIPTION:Following the success of last season’s compelling ‘The Little Print Show’\, Jonathan returns with another inspiring talk that showcases his expertise\, creativity and unique vision. In Me\, Myself\, and Eye\, Jonathan will share a curated selection of images from his personal projects\, delving into the stories\, concepts and inspiration that drive his artistic process. Guiding us through every stage of his craft – from the initial spark of an idea and the photographic techniques involved to the final production of apolished print – Jonathan will offer insights that will challenge traditional notions of camera club photography. This evening promises to transport you into the innovative and thought-provoking world of Jonathan’s visual art. \n(Visitors £5.00)
URL:https://keepcolchestercool.co.uk/event/me-myself-and-eye-talk-by-jonathan-vaines-lrps-cpagb-afiap/
LOCATION:Ireton Road\, CO3 3AT Colchester\, United Kingdom\, Ireton Road\, CO3 3AT Colchester\, United Kingdom
ORGANIZER;CN="Colchester Photographic Society":MAILTO:noreply@facebookmail_com
END:VEVENT
END:VCALENDAR