BEGIN:VCALENDAR
VERSION:2.0
PRODID:-//Keep Colchester Cool - ECPv6.15.20//NONSGML v1.0//EN
CALSCALE:GREGORIAN
METHOD:PUBLISH
X-WR-CALNAME:Keep Colchester Cool
X-ORIGINAL-URL:https://keepcolchestercool.co.uk
X-WR-CALDESC:Events for Keep Colchester Cool
REFRESH-INTERVAL;VALUE=DURATION:PT1H
X-Robots-Tag:noindex
X-PUBLISHED-TTL:PT1H
BEGIN:VTIMEZONE
TZID:Europe/London
BEGIN:DAYLIGHT
TZOFFSETFROM:+0000
TZOFFSETTO:+0100
TZNAME:BST
DTSTART:20250330T010000
END:DAYLIGHT
BEGIN:STANDARD
TZOFFSETFROM:+0100
TZOFFSETTO:+0000
TZNAME:GMT
DTSTART:20251026T010000
END:STANDARD
BEGIN:DAYLIGHT
TZOFFSETFROM:+0000
TZOFFSETTO:+0100
TZNAME:BST
DTSTART:20260329T010000
END:DAYLIGHT
BEGIN:STANDARD
TZOFFSETFROM:+0100
TZOFFSETTO:+0000
TZNAME:GMT
DTSTART:20261025T010000
END:STANDARD
BEGIN:DAYLIGHT
TZOFFSETFROM:+0000
TZOFFSETTO:+0100
TZNAME:BST
DTSTART:20270328T010000
END:DAYLIGHT
BEGIN:STANDARD
TZOFFSETFROM:+0100
TZOFFSETTO:+0000
TZNAME:GMT
DTSTART:20271031T010000
END:STANDARD
END:VTIMEZONE
BEGIN:VEVENT
DTSTART;TZID=Europe/London:20260314T123000
DTEND;TZID=Europe/London:20260314T150000
DTSTAMP:20260424T042313
CREATED:20260210T071037Z
LAST-MODIFIED:20260226T071214Z
UID:128281-1773491400-1773500400@keepcolchestercool.co.uk
SUMMARY:Mercury Creatives Masterclass – Selling Yourself with Fern Potter
DESCRIPTION:Mercury Creatives Masterclass – Selling Yourself\, Pitching and Public Speaking with Fern Potter.  \nThis 2.5-hour session runs from 12.30-3pm and will help you develop skills in pitching projects to prospective funders and investors and in presentation techniques. \nUsing Mehrabian’s model of communication and language that persuades and engages\, and a range of exercises\, you will learn how to prepare your body and mind for selling yourself and making a compelling pitch. \nThe session will include practical techniques to help quell your nerves and improve your public speaking.
URL:https://keepcolchestercool.co.uk/event/mercury-creatives-masterclass-selling-yourself-with-fern-potter/
LOCATION:Mercury Theatre Colchester\, Mercury Theatre Colchester
ATTACH;FMTTYPE=image/jpeg:https://keepcolchestercool.co.uk/wp-content/uploads/128281_image_625618392_1367782465380092_4668227234600168629_n.jpg
ORGANIZER;CN="Mercury Theatre Colchester":MAILTO:noreply@facebookmail_com
END:VEVENT
END:VCALENDAR