BEGIN:VCALENDAR
VERSION:2.0
PRODID:-//Keep Colchester Cool - ECPv6.15.20//NONSGML v1.0//EN
CALSCALE:GREGORIAN
METHOD:PUBLISH
X-WR-CALNAME:Keep Colchester Cool
X-ORIGINAL-URL:https://keepcolchestercool.co.uk
X-WR-CALDESC:Events for Keep Colchester Cool
REFRESH-INTERVAL;VALUE=DURATION:PT1H
X-Robots-Tag:noindex
X-PUBLISHED-TTL:PT1H
BEGIN:VTIMEZONE
TZID:Europe/London
BEGIN:DAYLIGHT
TZOFFSETFROM:+0000
TZOFFSETTO:+0100
TZNAME:BST
DTSTART:20240331T010000
END:DAYLIGHT
BEGIN:STANDARD
TZOFFSETFROM:+0100
TZOFFSETTO:+0000
TZNAME:GMT
DTSTART:20241027T010000
END:STANDARD
BEGIN:DAYLIGHT
TZOFFSETFROM:+0000
TZOFFSETTO:+0100
TZNAME:BST
DTSTART:20250330T010000
END:DAYLIGHT
BEGIN:STANDARD
TZOFFSETFROM:+0100
TZOFFSETTO:+0000
TZNAME:GMT
DTSTART:20251026T010000
END:STANDARD
BEGIN:DAYLIGHT
TZOFFSETFROM:+0000
TZOFFSETTO:+0100
TZNAME:BST
DTSTART:20260329T010000
END:DAYLIGHT
BEGIN:STANDARD
TZOFFSETFROM:+0100
TZOFFSETTO:+0000
TZNAME:GMT
DTSTART:20261025T010000
END:STANDARD
END:VTIMEZONE
BEGIN:VEVENT
DTSTART;TZID=Europe/London:20251120T160000
DTEND;TZID=Europe/London:20251120T190000
DTSTAMP:20260424T155903
CREATED:20251118T071009Z
LAST-MODIFIED:20251120T070956Z
UID:127239-1763654400-1763665200@keepcolchestercool.co.uk
SUMMARY:Mercury Reads: Kynochtown
DESCRIPTION:Join us for Mercury Reads a series of lively rehearsed readings celebrating local voices and fresh new writing. Each event spotlights an exciting playwright from our region\, giving audiences the chance to see new stories take shape for the very first time. \nIn this session\, join us in the Café Bar on Thu 20 Nov at 4pm as we look at Kynochtown by Vickie Donoghue. On the banks of the river Thames\, hidden within the Essex marshes\, is a thriving explosives factory. Within it are the women of Kynochtown. With the men away fighting on the battlefield\, it is the women who must step up into the dangerous roles that have been left vacant. \nThis play is about the female impact on this dangerous industry and how the history that those women made\, once victory was had in WW1\, disappeared into the marshes as fast as it had appeared. And with the smoke\, the canteen banter and the constant threat of explosions\, it was also the women’s troubles\, their sacrifices\, their love and their loss that were all lost to the mud. \nInspired by the true story of the brave women from Kynoch Explosives Factory in Essex\, Kynochtown sets out to readdress the fact that women are seldom remembered in history. Their part in significant historical events is frequently minimised. This play will shine a light on a group of women who changed everything and nothing. Their struggle is still our struggle. This play is about friendship. Motherhood. And survival.
URL:https://keepcolchestercool.co.uk/event/mercury-reads-kynochtown/
LOCATION:Mercury Theatre Colchester\, Mercury Theatre Colchester
ORGANIZER;CN="Mercury Theatre Colchester":MAILTO:noreply@facebookmail_com
END:VEVENT
END:VCALENDAR