BEGIN:VCALENDAR
VERSION:2.0
PRODID:-//Keep Colchester Cool - ECPv6.15.20//NONSGML v1.0//EN
CALSCALE:GREGORIAN
METHOD:PUBLISH
X-WR-CALNAME:Keep Colchester Cool
X-ORIGINAL-URL:https://keepcolchestercool.co.uk
X-WR-CALDESC:Events for Keep Colchester Cool
REFRESH-INTERVAL;VALUE=DURATION:PT1H
X-Robots-Tag:noindex
X-PUBLISHED-TTL:PT1H
BEGIN:VTIMEZONE
TZID:Europe/London
BEGIN:DAYLIGHT
TZOFFSETFROM:+0000
TZOFFSETTO:+0100
TZNAME:BST
DTSTART:20240331T010000
END:DAYLIGHT
BEGIN:STANDARD
TZOFFSETFROM:+0100
TZOFFSETTO:+0000
TZNAME:GMT
DTSTART:20241027T010000
END:STANDARD
BEGIN:DAYLIGHT
TZOFFSETFROM:+0000
TZOFFSETTO:+0100
TZNAME:BST
DTSTART:20250330T010000
END:DAYLIGHT
BEGIN:STANDARD
TZOFFSETFROM:+0100
TZOFFSETTO:+0000
TZNAME:GMT
DTSTART:20251026T010000
END:STANDARD
BEGIN:DAYLIGHT
TZOFFSETFROM:+0000
TZOFFSETTO:+0100
TZNAME:BST
DTSTART:20260329T010000
END:DAYLIGHT
BEGIN:STANDARD
TZOFFSETFROM:+0100
TZOFFSETTO:+0000
TZNAME:GMT
DTSTART:20261025T010000
END:STANDARD
END:VTIMEZONE
BEGIN:VEVENT
DTSTART;TZID=Europe/London:20251118T193000
DTEND;TZID=Europe/London:20251118T220000
DTSTAMP:20260424T141534
CREATED:20251027T071024Z
LAST-MODIFIED:20251118T071008Z
UID:126933-1763494200-1763503200@keepcolchestercool.co.uk
SUMMARY:Monochrome Print League Competition - 1st Round
DESCRIPTION:Appraisal by Jackie Gilman-Dace CPAGB BPE2* \nHeader Image: Seeking Enlightenment – Kate Jackson
URL:https://keepcolchestercool.co.uk/event/monochrome-print-league-competition-1st-round/
LOCATION:Ireton Road\, CO3 3AT Colchester\, United Kingdom\, Ireton Road\, CO3 3AT Colchester\, United Kingdom
ORGANIZER;CN="Colchester Photographic Society":MAILTO:noreply@facebookmail_com
END:VEVENT
END:VCALENDAR