BEGIN:VCALENDAR
VERSION:2.0
PRODID:-//Keep Colchester Cool - ECPv6.15.20//NONSGML v1.0//EN
CALSCALE:GREGORIAN
METHOD:PUBLISH
X-WR-CALNAME:Keep Colchester Cool
X-ORIGINAL-URL:https://keepcolchestercool.co.uk
X-WR-CALDESC:Events for Keep Colchester Cool
REFRESH-INTERVAL;VALUE=DURATION:PT1H
X-Robots-Tag:noindex
X-PUBLISHED-TTL:PT1H
BEGIN:VTIMEZONE
TZID:Europe/London
BEGIN:DAYLIGHT
TZOFFSETFROM:+0000
TZOFFSETTO:+0100
TZNAME:BST
DTSTART:20240331T010000
END:DAYLIGHT
BEGIN:STANDARD
TZOFFSETFROM:+0100
TZOFFSETTO:+0000
TZNAME:GMT
DTSTART:20241027T010000
END:STANDARD
BEGIN:DAYLIGHT
TZOFFSETFROM:+0000
TZOFFSETTO:+0100
TZNAME:BST
DTSTART:20250330T010000
END:DAYLIGHT
BEGIN:STANDARD
TZOFFSETFROM:+0100
TZOFFSETTO:+0000
TZNAME:GMT
DTSTART:20251026T010000
END:STANDARD
BEGIN:DAYLIGHT
TZOFFSETFROM:+0000
TZOFFSETTO:+0100
TZNAME:BST
DTSTART:20260329T010000
END:DAYLIGHT
BEGIN:STANDARD
TZOFFSETFROM:+0100
TZOFFSETTO:+0000
TZNAME:GMT
DTSTART:20261025T010000
END:STANDARD
END:VTIMEZONE
BEGIN:VEVENT
DTSTART;TZID=Europe/London:20251121T200000
DTEND;TZID=Europe/London:20251121T230000
DTSTAMP:20260424T153002
CREATED:20251025T071036Z
LAST-MODIFIED:20251121T071018Z
UID:126774-1763755200-1763766000@keepcolchestercool.co.uk
SUMMARY:Motel Sundown / Craig Gould & the Nobel Thieves @ Colne Delta Blues & Americana Club\, Brightlingsea
DESCRIPTION:We fancied a road trip 🚗 we’ll see you in November\, Brightlingsea!  \nWe’ll be heading out as a four piece with some new tunes in the bag & we can’t wait to see you there.  \nTickets:https://www.trybooking.com/uk/events/landing/94903
URL:https://keepcolchestercool.co.uk/event/motel-sundown-craig-gould-the-nobel-thieves-colne-delta-blues-americana-club-brightlingsea/
LOCATION:Colne Delta Blues and Americana\, Colne Delta Blues and Americana
END:VEVENT
END:VCALENDAR