BEGIN:VCALENDAR
VERSION:2.0
PRODID:-//Keep Colchester Cool - ECPv6.15.20//NONSGML v1.0//EN
CALSCALE:GREGORIAN
METHOD:PUBLISH
X-WR-CALNAME:Keep Colchester Cool
X-ORIGINAL-URL:https://keepcolchestercool.co.uk
X-WR-CALDESC:Events for Keep Colchester Cool
REFRESH-INTERVAL;VALUE=DURATION:PT1H
X-Robots-Tag:noindex
X-PUBLISHED-TTL:PT1H
BEGIN:VTIMEZONE
TZID:Europe/London
BEGIN:DAYLIGHT
TZOFFSETFROM:+0000
TZOFFSETTO:+0100
TZNAME:BST
DTSTART:20240331T010000
END:DAYLIGHT
BEGIN:STANDARD
TZOFFSETFROM:+0100
TZOFFSETTO:+0000
TZNAME:GMT
DTSTART:20241027T010000
END:STANDARD
BEGIN:DAYLIGHT
TZOFFSETFROM:+0000
TZOFFSETTO:+0100
TZNAME:BST
DTSTART:20250330T010000
END:DAYLIGHT
BEGIN:STANDARD
TZOFFSETFROM:+0100
TZOFFSETTO:+0000
TZNAME:GMT
DTSTART:20251026T010000
END:STANDARD
BEGIN:DAYLIGHT
TZOFFSETFROM:+0000
TZOFFSETTO:+0100
TZNAME:BST
DTSTART:20260329T010000
END:DAYLIGHT
BEGIN:STANDARD
TZOFFSETFROM:+0100
TZOFFSETTO:+0000
TZNAME:GMT
DTSTART:20261025T010000
END:STANDARD
END:VTIMEZONE
BEGIN:VEVENT
DTSTART;TZID=Europe/London:20250913T110000
DTEND;TZID=Europe/London:20250913T223000
DTSTAMP:20260424T232653
CREATED:20250729T071105Z
LAST-MODIFIED:20250913T071044Z
UID:125542-1757761200-1757802600@keepcolchestercool.co.uk
SUMMARY:MOTOFEST (raising Funds for Essex and herts air ambulance)
DESCRIPTION:The Colchester bike group will be raising funds for charity. Lots going on stalls\, bouncy castles \, food and drink\, face painting. I’m sure it will be a great day with some great bikes on show.
URL:https://keepcolchestercool.co.uk/event/motofest-raising-funds-for-essex-and-herts-air-ambulance/
LOCATION:Main Road\, Colchester
ORGANIZER;CN="Kings Arms%2C Frating%2C Essex":MAILTO:noreply@facebookmail.com
END:VEVENT
END:VCALENDAR