BEGIN:VCALENDAR
VERSION:2.0
PRODID:-//Keep Colchester Cool - ECPv6.15.20//NONSGML v1.0//EN
CALSCALE:GREGORIAN
METHOD:PUBLISH
X-WR-CALNAME:Keep Colchester Cool
X-ORIGINAL-URL:https://keepcolchestercool.co.uk
X-WR-CALDESC:Events for Keep Colchester Cool
REFRESH-INTERVAL;VALUE=DURATION:PT1H
X-Robots-Tag:noindex
X-PUBLISHED-TTL:PT1H
BEGIN:VTIMEZONE
TZID:Europe/London
BEGIN:DAYLIGHT
TZOFFSETFROM:+0000
TZOFFSETTO:+0100
TZNAME:BST
DTSTART:20240331T010000
END:DAYLIGHT
BEGIN:STANDARD
TZOFFSETFROM:+0100
TZOFFSETTO:+0000
TZNAME:GMT
DTSTART:20241027T010000
END:STANDARD
BEGIN:DAYLIGHT
TZOFFSETFROM:+0000
TZOFFSETTO:+0100
TZNAME:BST
DTSTART:20250330T010000
END:DAYLIGHT
BEGIN:STANDARD
TZOFFSETFROM:+0100
TZOFFSETTO:+0000
TZNAME:GMT
DTSTART:20251026T010000
END:STANDARD
BEGIN:DAYLIGHT
TZOFFSETFROM:+0000
TZOFFSETTO:+0100
TZNAME:BST
DTSTART:20260329T010000
END:DAYLIGHT
BEGIN:STANDARD
TZOFFSETFROM:+0100
TZOFFSETTO:+0000
TZNAME:GMT
DTSTART:20261025T010000
END:STANDARD
END:VTIMEZONE
BEGIN:VEVENT
DTSTART;TZID=Europe/London:20250913T110000
DTEND;TZID=Europe/London:20250913T140000
DTSTAMP:20260424T191336
CREATED:20250527T071032Z
LAST-MODIFIED:20250913T071044Z
UID:124705-1757761200-1757772000@keepcolchestercool.co.uk
SUMMARY:MOTOFEST!!
DESCRIPTION:Get ready to rev up the fun at MotoFest 2025!! \nCalling all motorcycle enthusiasts and their families….Join us for an afternoon of excitement and family friendly fun at MotoFest. \nEntry is free\, there will be Food\, Drink and lots of things to do for the family. \nMore details will be announced closer to the time so keep your eyes open and get the date in the diary…
URL:https://keepcolchestercool.co.uk/event/motofest/
LOCATION:Kings Arms\, Frating\, Essex\, Kings Arms\, Frating\, Essex
END:VEVENT
END:VCALENDAR