BEGIN:VCALENDAR
VERSION:2.0
PRODID:-//Keep Colchester Cool - ECPv6.15.20//NONSGML v1.0//EN
CALSCALE:GREGORIAN
METHOD:PUBLISH
X-WR-CALNAME:Keep Colchester Cool
X-ORIGINAL-URL:https://keepcolchestercool.co.uk
X-WR-CALDESC:Events for Keep Colchester Cool
REFRESH-INTERVAL;VALUE=DURATION:PT1H
X-Robots-Tag:noindex
X-PUBLISHED-TTL:PT1H
BEGIN:VTIMEZONE
TZID:Europe/London
BEGIN:DAYLIGHT
TZOFFSETFROM:+0000
TZOFFSETTO:+0100
TZNAME:BST
DTSTART:20250330T010000
END:DAYLIGHT
BEGIN:STANDARD
TZOFFSETFROM:+0100
TZOFFSETTO:+0000
TZNAME:GMT
DTSTART:20251026T010000
END:STANDARD
BEGIN:DAYLIGHT
TZOFFSETFROM:+0000
TZOFFSETTO:+0100
TZNAME:BST
DTSTART:20260329T010000
END:DAYLIGHT
BEGIN:STANDARD
TZOFFSETFROM:+0100
TZOFFSETTO:+0000
TZNAME:GMT
DTSTART:20261025T010000
END:STANDARD
BEGIN:DAYLIGHT
TZOFFSETFROM:+0000
TZOFFSETTO:+0100
TZNAME:BST
DTSTART:20270328T010000
END:DAYLIGHT
BEGIN:STANDARD
TZOFFSETFROM:+0100
TZOFFSETTO:+0000
TZNAME:GMT
DTSTART:20271031T010000
END:STANDARD
END:VTIMEZONE
BEGIN:VEVENT
DTSTART;TZID=Europe/London:20260313T190000
DTEND;TZID=Europe/London:20260313T213000
DTSTAMP:20260424T044007
CREATED:20260113T071041Z
LAST-MODIFIED:20260226T071213Z
UID:127791-1773428400-1773437400@keepcolchestercool.co.uk
SUMMARY:Much Ado About Nothing
DESCRIPTION:The Theatre Arts Society presents their Spring Show! \nWritten by William ShakespeareDirected by Lou Naïlo \nLove. Deceit. Soirées. Shakespeare. \nStep into the roaring ’20s filled with love\, deceit\, and soirées\, for Shakespeare’s Much Ado About Nothing. \nAgainst a backdrop of the 1920s highlife\, follow four lovers and their blooming relationship as they try to overcome bitter rivalries and life-threatening gossip. \nAfter returning from the war\, Count Claudio falls in love with Hero\, his host’s daughter. Meanwhile\, Beatrice and Benedick exchange cutting words in a game of wit. While the former pair’s relationship grows\, Beatrice and Benedick are duped into thinking the other loves them. \nBut Claudio and Hero’s relationship isn’t safe from deception either. A cunning plot by the nefarious Don John seeks to tear their budding romance apart\, bringing Hero’s reputation down with it. \nDust off your masquerade masks and be our esteemed guest for this journey. With extravagant soirées\, a host of quips and jabs\, and a game of social deception\, there’s something for everyone in this take on Shakespeare’s Much Ado About Nothing. \nAge rating: 12+ \nContent warnings: Themes of child abuse\, mild sexual content
URL:https://keepcolchestercool.co.uk/event/much-ado-about-nothing-2/
LOCATION:Lakeside Theatre\, University of Essex\, Wivenhoe Park\, Colchester\, CO4 3SQ\, GB
ATTACH;FMTTYPE=image/jpeg:https://keepcolchestercool.co.uk/wp-content/uploads/127791_image_612725322_1479245464204274_9096424061102075303_n.jpg
ORGANIZER;CN="Lakeside Theatre":MAILTO:noreply@facebookmail_com
END:VEVENT
END:VCALENDAR