BEGIN:VCALENDAR
VERSION:2.0
PRODID:-//Keep Colchester Cool - ECPv6.15.20//NONSGML v1.0//EN
CALSCALE:GREGORIAN
METHOD:PUBLISH
X-WR-CALNAME:Keep Colchester Cool
X-ORIGINAL-URL:https://keepcolchestercool.co.uk
X-WR-CALDESC:Events for Keep Colchester Cool
REFRESH-INTERVAL;VALUE=DURATION:PT1H
X-Robots-Tag:noindex
X-PUBLISHED-TTL:PT1H
BEGIN:VTIMEZONE
TZID:Europe/London
BEGIN:DAYLIGHT
TZOFFSETFROM:+0000
TZOFFSETTO:+0100
TZNAME:BST
DTSTART:20250330T010000
END:DAYLIGHT
BEGIN:STANDARD
TZOFFSETFROM:+0100
TZOFFSETTO:+0000
TZNAME:GMT
DTSTART:20251026T010000
END:STANDARD
BEGIN:DAYLIGHT
TZOFFSETFROM:+0000
TZOFFSETTO:+0100
TZNAME:BST
DTSTART:20260329T010000
END:DAYLIGHT
BEGIN:STANDARD
TZOFFSETFROM:+0100
TZOFFSETTO:+0000
TZNAME:GMT
DTSTART:20261025T010000
END:STANDARD
BEGIN:DAYLIGHT
TZOFFSETFROM:+0000
TZOFFSETTO:+0100
TZNAME:BST
DTSTART:20270328T010000
END:DAYLIGHT
BEGIN:STANDARD
TZOFFSETFROM:+0100
TZOFFSETTO:+0000
TZNAME:GMT
DTSTART:20271031T010000
END:STANDARD
END:VTIMEZONE
BEGIN:VEVENT
DTSTART;TZID=Europe/London:20260313T210000
DTEND;TZID=Europe/London:20260314T000000
DTSTAMP:20260424T065926
CREATED:20260224T071207Z
LAST-MODIFIED:20260226T071214Z
UID:129125-1773435600-1773446400@keepcolchestercool.co.uk
SUMMARY:MYSPACE OR YOURS? LIVE at CODA [COLCHESTER]
DESCRIPTION:𝗧𝗵𝗶𝘀 [𝗖𝗢𝗗𝗔] 𝗕𝗲 𝗔𝗻𝘆𝘄𝗵𝗲𝗿𝗲 𝗜𝗻 𝗧𝗵𝗲 𝗪𝗼𝗿𝗹𝗱 🌎 \n𝗖𝗢𝗟𝗖𝗛𝗘𝗦𝗧𝗘𝗥 👥𝗺𝘆𝘀𝗽𝗮𝗰𝗲 𝗜𝗦 𝗕𝗔𝗖𝗞!!𝗥𝗲𝗮𝗱𝘆 𝗧𝗼 𝗧𝗮𝗸𝗲 @codacolchester 𝗕𝗮𝗰𝗸 𝗧𝗼 𝗧𝗵𝗲 𝗗𝗮𝘆𝘀 𝗢𝗳 𝗥𝗮𝗰𝗼𝗼𝗻 𝗛𝗮𝗶𝗿 𝗘𝘅𝘁𝗲𝗻𝘀𝗶𝗼𝗻𝘀 🎀𝗗𝗿𝗮𝗶𝗻𝗽𝗶𝗽𝗲𝘀\, 𝗡𝗶𝗸𝗲 𝗔𝗶𝗿 𝗙𝗼𝗿𝗰𝗲 𝗢𝗻𝗲𝘀 👟 𝗔𝗻𝗱.. 𝗖𝗿𝗶𝗻𝗴𝗲𝘆 𝗣𝗿𝗼𝗳𝗶𝗹𝗲 𝗡𝗮𝗺𝗲𝘀 🤳  \n𝗪𝗶𝘁𝗵 𝗢𝘃𝗲𝗿 𝗧𝘄𝗼 𝗛𝗼𝘂𝗿𝘀 𝗢𝗻 𝗡𝗼𝗻 𝗦𝘁𝗼𝗽 𝗟𝗜𝗩𝗘 𝗘𝗠𝗢 𝗦𝗖𝗘𝗡𝗘 & 𝗘𝗩𝗘𝗥𝗬𝗧𝗛𝗜𝗡𝗚 𝗜𝗡-𝗕𝗘𝗧𝗪𝗘𝗘𝗡 🖤 \n𝗘𝘅𝗽𝗲𝗰𝘁 𝗬𝗼𝘂𝗿 𝗨𝘀𝘂𝗮𝗹 𝗖𝗢𝗗𝗔 𝗖𝗛𝗔𝗢𝗦𝗢𝗻 𝗔𝗻 𝗘𝗺𝗼’𝘀 𝗙𝗮𝘃𝗼𝗿𝗶𝘁𝗲 𝗛𝗼𝗹𝗶𝗱𝗮𝘆𝗙𝗥𝗜𝗗𝗔𝗬 𝗧𝗛𝗘 13𝗧𝗛 ☂️🐈‍⬛️ \n𝗔𝘀 𝗘𝘃𝗲𝗿 𝗪𝗲 𝗛𝗮𝘃𝗲𝗠𝗿 “𝗙𝗶𝘀𝘁 𝗕𝘂𝗺𝗽” 👊✌🏼𝗮𝗻𝗱 “𝗠𝗮𝘀𝗵 𝗨𝗽 𝗠𝗮𝘀𝘁𝗲𝗿” @dj_pressplay_uk 𝗣𝗹𝗮𝘆𝗶𝗻𝗴 𝗦𝗼𝗺𝗲 𝗔𝗯𝘀𝗼𝗹𝘂𝘁𝗲 𝗕𝗘𝗟𝗧𝗘𝗥𝗦 𝘁𝗶𝗹 2𝗔𝗠 \n𝗙𝗥𝗜𝗗𝗔𝗬 13𝗧𝗛 𝗠𝗔𝗥𝗖𝗛 [9𝗣𝗠]  \n#𝗰𝗼𝗱𝗮 #𝗰𝗼𝗹𝗰𝗵𝗲𝘀𝘁𝗲𝗿 #𝗲𝗺𝗼𝗻𝗶𝗴𝗵𝘁#𝘀𝗰𝗿𝗲𝗮𝗺𝗼 #𝗺𝘆𝘀𝗽𝗮𝗰𝗲𝗼𝗿𝘆𝗼𝘂𝗿𝘀
URL:https://keepcolchestercool.co.uk/event/myspace-or-yours-live-at-coda-colchester/
LOCATION:Coda Colchester\, Coda Colchester
ATTACH;FMTTYPE=image/jpeg:https://keepcolchestercool.co.uk/wp-content/uploads/129125_image_629210026_875056278694191_1304237056030625362_n.jpg
ORGANIZER;CN="Myspace or Yours?":MAILTO:noreply@facebookmail_com
END:VEVENT
END:VCALENDAR