BEGIN:VCALENDAR
VERSION:2.0
PRODID:-//Keep Colchester Cool - ECPv6.15.20//NONSGML v1.0//EN
CALSCALE:GREGORIAN
METHOD:PUBLISH
X-WR-CALNAME:Keep Colchester Cool
X-ORIGINAL-URL:https://keepcolchestercool.co.uk
X-WR-CALDESC:Events for Keep Colchester Cool
REFRESH-INTERVAL;VALUE=DURATION:PT1H
X-Robots-Tag:noindex
X-PUBLISHED-TTL:PT1H
BEGIN:VTIMEZONE
TZID:Europe/London
BEGIN:DAYLIGHT
TZOFFSETFROM:+0000
TZOFFSETTO:+0100
TZNAME:BST
DTSTART:20240331T010000
END:DAYLIGHT
BEGIN:STANDARD
TZOFFSETFROM:+0100
TZOFFSETTO:+0000
TZNAME:GMT
DTSTART:20241027T010000
END:STANDARD
BEGIN:DAYLIGHT
TZOFFSETFROM:+0000
TZOFFSETTO:+0100
TZNAME:BST
DTSTART:20250330T010000
END:DAYLIGHT
BEGIN:STANDARD
TZOFFSETFROM:+0100
TZOFFSETTO:+0000
TZNAME:GMT
DTSTART:20251026T010000
END:STANDARD
BEGIN:DAYLIGHT
TZOFFSETFROM:+0000
TZOFFSETTO:+0100
TZNAME:BST
DTSTART:20260329T010000
END:DAYLIGHT
BEGIN:STANDARD
TZOFFSETFROM:+0100
TZOFFSETTO:+0000
TZNAME:GMT
DTSTART:20261025T010000
END:STANDARD
END:VTIMEZONE
BEGIN:VEVENT
DTSTART;TZID=Europe/London:20250918T190000
DTEND;TZID=Europe/London:20250918T220000
DTSTAMP:20260424T191517
CREATED:20250527T071033Z
LAST-MODIFIED:20250918T071014Z
UID:124711-1758222000-1758232800@keepcolchestercool.co.uk
SUMMARY:National Theatre Live: Inter Alia
DESCRIPTION:Inter Aliaa new play by Suzie Miller \nOscar-nominated Rosamund Pike (Gone Girl\, Saltburn) is Jessica in the much-anticipated next play from the team behind Prima Facie. \nJessica Parks is a smart Crown Court Judge at the top of her career. Behind the robe\, she is a karaoke fiend\, a loving wife and a supportive parent. When an event threatens to throw her life completely off balance\, can she hold her family upright? \nWriter Suzie Miller and director Justin Martin reunite following their global phenomenon Prima Facie\, with this searing examination of modern motherhood and masculinity. \nRunning Time:120min TBC \n BBFC Certificate:15 ‘as live’ TBC
URL:https://keepcolchestercool.co.uk/event/national-theatre-live-inter-alia/
LOCATION:Lakeside Theatre\, University of Essex\, Wivenhoe Park\, Colchester\, CO4 3SQ\, GB
ORGANIZER;CN="Lakeside Theatre":MAILTO:noreply@facebookmail_com
END:VEVENT
END:VCALENDAR