BEGIN:VCALENDAR
VERSION:2.0
PRODID:-//Keep Colchester Cool - ECPv6.15.20//NONSGML v1.0//EN
CALSCALE:GREGORIAN
METHOD:PUBLISH
X-WR-CALNAME:Keep Colchester Cool
X-ORIGINAL-URL:https://keepcolchestercool.co.uk
X-WR-CALDESC:Events for Keep Colchester Cool
REFRESH-INTERVAL;VALUE=DURATION:PT1H
X-Robots-Tag:noindex
X-PUBLISHED-TTL:PT1H
BEGIN:VTIMEZONE
TZID:Europe/London
BEGIN:DAYLIGHT
TZOFFSETFROM:+0000
TZOFFSETTO:+0100
TZNAME:BST
DTSTART:20250330T010000
END:DAYLIGHT
BEGIN:STANDARD
TZOFFSETFROM:+0100
TZOFFSETTO:+0000
TZNAME:GMT
DTSTART:20251026T010000
END:STANDARD
BEGIN:DAYLIGHT
TZOFFSETFROM:+0000
TZOFFSETTO:+0100
TZNAME:BST
DTSTART:20260329T010000
END:DAYLIGHT
BEGIN:STANDARD
TZOFFSETFROM:+0100
TZOFFSETTO:+0000
TZNAME:GMT
DTSTART:20261025T010000
END:STANDARD
BEGIN:DAYLIGHT
TZOFFSETFROM:+0000
TZOFFSETTO:+0100
TZNAME:BST
DTSTART:20270328T010000
END:DAYLIGHT
BEGIN:STANDARD
TZOFFSETFROM:+0100
TZOFFSETTO:+0000
TZNAME:GMT
DTSTART:20271031T010000
END:STANDARD
END:VTIMEZONE
BEGIN:VEVENT
DTSTART;TZID=Europe/London:20260313T190000
DTEND;TZID=Europe/London:20260313T220000
DTSTAMP:20260424T065931
CREATED:20260225T071224Z
LAST-MODIFIED:20260226T071213Z
UID:129332-1773428400-1773439200@keepcolchestercool.co.uk
SUMMARY:Open Your Hearts for Open Road featuring John Robins In Conversation*
DESCRIPTION:All Tickets £35.Doors open 7pm\, show starts 7.30pm.This show is for a seated audience. \nOpen Road\, the Essex-based drugs & alcohol support charity\, invites you to a night of wondrous entertainment for the very best of causes\, featuring JOHN ROBINS! \nJoin critically acclaimed stand-up comedian\, Taskmaster champion\, and award-winning broadcaster John Robins in conversation about alcohol addiction and the journey to sobriety. John will be talking about his beautifully written\, moving and darkly funny forthcoming memoir Thirst. He will tell the story of his life through the lens of alcohol\, the drinks that made him\, and those that broke him. From his earliest drinking experiences – pretending to be drunk after a sip of champagne aged five\, spraying aftershave into his mouth at the school play afterparty\, and university nights spent downing red wine alone in his room – to his last drink in 2022 and the journey into sobriety that followed\, John will explore our relationship with alcohol through reflections on decades of his own drinking. \nFormer Colchester Mayor Tim Young\, will host the conversation\, which will also include an audience Q&A.  \nJohn Robins is best known for his radio and podcast partnership with BBC Radio 5. Having completed numerous sell-out runs at the Edinburgh Fringe and picking up the Chortle Awards for Best Compere\, one for Best Radio\, and a Three Weeks Editors Choice Award\, in 2017 he scooped the big one\, winning the Edinburgh Comedy Award for his show “The Darkness of Robins”. A 68 UK tour followed\, culminating in a sold out show at London’s hammersmith Eventin Apollo. \nhttps://www.johnrobins.com/about/
URL:https://keepcolchestercool.co.uk/event/open-your-hearts-for-open-road-featuring-john-robins-in-conversation/
LOCATION:Church St\, CO1 1NF Colchester\, United Kingdom
ATTACH;FMTTYPE=image/jpeg:https://keepcolchestercool.co.uk/wp-content/uploads/129332_image_641255204_1332743075554525_6669434260253117957_n.jpg
ORGANIZER;CN="Colchester Arts Centre":MAILTO:noreply@facebookmail_com
END:VEVENT
END:VCALENDAR