BEGIN:VCALENDAR
VERSION:2.0
PRODID:-//Keep Colchester Cool - ECPv6.15.20//NONSGML v1.0//EN
CALSCALE:GREGORIAN
METHOD:PUBLISH
X-WR-CALNAME:Keep Colchester Cool
X-ORIGINAL-URL:https://keepcolchestercool.co.uk
X-WR-CALDESC:Events for Keep Colchester Cool
REFRESH-INTERVAL;VALUE=DURATION:PT1H
X-Robots-Tag:noindex
X-PUBLISHED-TTL:PT1H
BEGIN:VTIMEZONE
TZID:Europe/London
BEGIN:DAYLIGHT
TZOFFSETFROM:+0000
TZOFFSETTO:+0100
TZNAME:BST
DTSTART:20240331T010000
END:DAYLIGHT
BEGIN:STANDARD
TZOFFSETFROM:+0100
TZOFFSETTO:+0000
TZNAME:GMT
DTSTART:20241027T010000
END:STANDARD
BEGIN:DAYLIGHT
TZOFFSETFROM:+0000
TZOFFSETTO:+0100
TZNAME:BST
DTSTART:20250330T010000
END:DAYLIGHT
BEGIN:STANDARD
TZOFFSETFROM:+0100
TZOFFSETTO:+0000
TZNAME:GMT
DTSTART:20251026T010000
END:STANDARD
BEGIN:DAYLIGHT
TZOFFSETFROM:+0000
TZOFFSETTO:+0100
TZNAME:BST
DTSTART:20260329T010000
END:DAYLIGHT
BEGIN:STANDARD
TZOFFSETFROM:+0100
TZOFFSETTO:+0000
TZNAME:GMT
DTSTART:20261025T010000
END:STANDARD
END:VTIMEZONE
BEGIN:VEVENT
DTSTART;TZID=Europe/London:20250907T173000
DTEND;TZID=Europe/London:20250907T203000
DTSTAMP:20260424T191420
CREATED:20250729T071103Z
LAST-MODIFIED:20250907T071009Z
UID:125536-1757266200-1757277000@keepcolchestercool.co.uk
SUMMARY:Panama City Duo
DESCRIPTION:🎶 Panama City Duo – First Gig at the Victoria Inn!🎶Don’t miss Panama City\, an alt-folk duo bringing their unique sound to the Victoria Inn for the very first time on Sunday 7th September\, starting at 5:30 PM. \nWith rich harmonies\, heartfelt lyrics\, and a fresh twist on folk tradition\, Panama City blend acoustic warmth with a modern edge. This intimate set marks their first gig at the Victoria Inn\, and it’s the perfect way to spend a laid-back Sunday evening. \nFree entry\, but donations encouraged!! – come along\, unwind\, and discover something special.
URL:https://keepcolchestercool.co.uk/event/panama-city-duo/
LOCATION:Victoria Inn Colchester\, 10 North Station Rd\, Colchester\, CO1 1RB\, GB
ORGANIZER;CN="Victoria Inn Colchester":MAILTO:noreply@facebookmail_com
END:VEVENT
END:VCALENDAR