BEGIN:VCALENDAR
VERSION:2.0
PRODID:-//Keep Colchester Cool - ECPv6.15.20//NONSGML v1.0//EN
CALSCALE:GREGORIAN
METHOD:PUBLISH
X-WR-CALNAME:Keep Colchester Cool
X-ORIGINAL-URL:https://keepcolchestercool.co.uk
X-WR-CALDESC:Events for Keep Colchester Cool
REFRESH-INTERVAL;VALUE=DURATION:PT1H
X-Robots-Tag:noindex
X-PUBLISHED-TTL:PT1H
BEGIN:VTIMEZONE
TZID:Europe/London
BEGIN:DAYLIGHT
TZOFFSETFROM:+0000
TZOFFSETTO:+0100
TZNAME:BST
DTSTART:20240331T010000
END:DAYLIGHT
BEGIN:STANDARD
TZOFFSETFROM:+0100
TZOFFSETTO:+0000
TZNAME:GMT
DTSTART:20241027T010000
END:STANDARD
BEGIN:DAYLIGHT
TZOFFSETFROM:+0000
TZOFFSETTO:+0100
TZNAME:BST
DTSTART:20250330T010000
END:DAYLIGHT
BEGIN:STANDARD
TZOFFSETFROM:+0100
TZOFFSETTO:+0000
TZNAME:GMT
DTSTART:20251026T010000
END:STANDARD
BEGIN:DAYLIGHT
TZOFFSETFROM:+0000
TZOFFSETTO:+0100
TZNAME:BST
DTSTART:20260329T010000
END:DAYLIGHT
BEGIN:STANDARD
TZOFFSETFROM:+0100
TZOFFSETTO:+0000
TZNAME:GMT
DTSTART:20261025T010000
END:STANDARD
BEGIN:DAYLIGHT
TZOFFSETFROM:+0000
TZOFFSETTO:+0100
TZNAME:BST
DTSTART:20270328T010000
END:DAYLIGHT
BEGIN:STANDARD
TZOFFSETFROM:+0100
TZOFFSETTO:+0000
TZNAME:GMT
DTSTART:20271031T010000
END:STANDARD
END:VTIMEZONE
BEGIN:VEVENT
DTSTART;TZID=Europe/London:20251231T200000
DTEND;TZID=Europe/London:20260101T030000
DTSTAMP:20260424T105827
CREATED:20251111T071054Z
LAST-MODIFIED:20260101T071002Z
UID:127212-1767211200-1767236400@keepcolchestercool.co.uk
SUMMARY:Party into 2026 🎉
DESCRIPTION:🎉 Rubix Bar & Nightclub – New Year’s Eve Party! 🎉📅 Tuesday 31st December🕗 8PM – 3AM🎟️ Tickets just £4 in advance / £10 on the night \nGet ready to party into 2026 at Colchester’s No.1 party venue!Join us for the ultimate New Year’s Eve celebration packed with the biggest pop\, party & dance classics of all time — from floor-fillers to guilty pleasures that will keep you dancing right through the midnight countdown! \nExpect:✨ A massive party atmosphere🍹 Festive cocktails & drinks deals🎊 Confetti\, party hats & poppers🕛 Big Ben countdown (Rubix-style!)💃 The best crowd in town! \nGrab your £4 tickets early and let’s make it a night to remember — it’s time to celebrate the start of 2026 in true Rubix style! \nIf you would like VIP please email us direct with your requirements:- Info@rubix-nightclub.com
URL:https://keepcolchestercool.co.uk/event/party-into-2026-%f0%9f%8e%89/
LOCATION:Rubix Bar\, Rubix Bar
ORGANIZER;CN="Rubix Bar":MAILTO:noreply@facebookmail_com
END:VEVENT
END:VCALENDAR