BEGIN:VCALENDAR
VERSION:2.0
PRODID:-//Keep Colchester Cool - ECPv6.15.20//NONSGML v1.0//EN
CALSCALE:GREGORIAN
METHOD:PUBLISH
X-WR-CALNAME:Keep Colchester Cool
X-ORIGINAL-URL:https://keepcolchestercool.co.uk
X-WR-CALDESC:Events for Keep Colchester Cool
REFRESH-INTERVAL;VALUE=DURATION:PT1H
X-Robots-Tag:noindex
X-PUBLISHED-TTL:PT1H
BEGIN:VTIMEZONE
TZID:Europe/London
BEGIN:DAYLIGHT
TZOFFSETFROM:+0000
TZOFFSETTO:+0100
TZNAME:BST
DTSTART:20240331T010000
END:DAYLIGHT
BEGIN:STANDARD
TZOFFSETFROM:+0100
TZOFFSETTO:+0000
TZNAME:GMT
DTSTART:20241027T010000
END:STANDARD
BEGIN:DAYLIGHT
TZOFFSETFROM:+0000
TZOFFSETTO:+0100
TZNAME:BST
DTSTART:20250330T010000
END:DAYLIGHT
BEGIN:STANDARD
TZOFFSETFROM:+0100
TZOFFSETTO:+0000
TZNAME:GMT
DTSTART:20251026T010000
END:STANDARD
BEGIN:DAYLIGHT
TZOFFSETFROM:+0000
TZOFFSETTO:+0100
TZNAME:BST
DTSTART:20260329T010000
END:DAYLIGHT
BEGIN:STANDARD
TZOFFSETFROM:+0100
TZOFFSETTO:+0000
TZNAME:GMT
DTSTART:20261025T010000
END:STANDARD
END:VTIMEZONE
BEGIN:VEVENT
DTSTART;TZID=Europe/London:20250815T220000
DTEND;TZID=Europe/London:20250816T010000
DTSTAMP:20260424T231901
CREATED:20250718T071117Z
LAST-MODIFIED:20250816T071049Z
UID:125421-1755295200-1755306000@keepcolchestercool.co.uk
SUMMARY:Party like it's the year 3000 - The Official Afterparty
DESCRIPTION:We’re here to party like it’s the year 3000! 🎸 \nThe show might be over\, but the night is definitely not. \nHead to Three Wise Monkeys straight after Castle Park for the official Busted afterparty – expect throwback bangers\, pop-punk anthems and guest DJs!
URL:https://keepcolchestercool.co.uk/event/party-like-its-the-year-3000-the-official-afterparty/
LOCATION:Three Wise Monkeys Colchester
ORGANIZER;CN="Colchester Castle Summer Series":MAILTO:noreply@facebookmail.com
END:VEVENT
END:VCALENDAR