BEGIN:VCALENDAR
VERSION:2.0
PRODID:-//Keep Colchester Cool - ECPv6.15.20//NONSGML v1.0//EN
CALSCALE:GREGORIAN
METHOD:PUBLISH
X-WR-CALNAME:Keep Colchester Cool
X-ORIGINAL-URL:https://keepcolchestercool.co.uk
X-WR-CALDESC:Events for Keep Colchester Cool
REFRESH-INTERVAL;VALUE=DURATION:PT1H
X-Robots-Tag:noindex
X-PUBLISHED-TTL:PT1H
BEGIN:VTIMEZONE
TZID:Europe/London
BEGIN:DAYLIGHT
TZOFFSETFROM:+0000
TZOFFSETTO:+0100
TZNAME:BST
DTSTART:20240331T010000
END:DAYLIGHT
BEGIN:STANDARD
TZOFFSETFROM:+0100
TZOFFSETTO:+0000
TZNAME:GMT
DTSTART:20241027T010000
END:STANDARD
BEGIN:DAYLIGHT
TZOFFSETFROM:+0000
TZOFFSETTO:+0100
TZNAME:BST
DTSTART:20250330T010000
END:DAYLIGHT
BEGIN:STANDARD
TZOFFSETFROM:+0100
TZOFFSETTO:+0000
TZNAME:GMT
DTSTART:20251026T010000
END:STANDARD
BEGIN:DAYLIGHT
TZOFFSETFROM:+0000
TZOFFSETTO:+0100
TZNAME:BST
DTSTART:20260329T010000
END:DAYLIGHT
BEGIN:STANDARD
TZOFFSETFROM:+0100
TZOFFSETTO:+0000
TZNAME:GMT
DTSTART:20261025T010000
END:STANDARD
END:VTIMEZONE
BEGIN:VEVENT
DTSTART;TZID=Europe/London:20250816T220000
DTEND;TZID=Europe/London:20250817T030000
DTSTAMP:20260424T212017
CREATED:20250813T071011Z
LAST-MODIFIED:20250817T071014Z
UID:125720-1755381600-1755399600@keepcolchestercool.co.uk
SUMMARY:Pop in the Loft (Pride Special)
DESCRIPTION:The ultimate Colchester Pride 🏳️‍🌈Afterparty upstairs at Rubix as we do a Pop in the Loft special with D Jay Bobes! \nExpect the cheesiest Pop and 🎤 singalong Party Classics all night!  \nSimply huge drinks 🥤deals all night and FREE Entry before 11pm!🕚  \nArrive early before you turn into a pumpkin 🎃 😉
URL:https://keepcolchestercool.co.uk/event/pop-in-the-loft-pride-special/
LOCATION:Rubix Bar\, Rubix Bar
ORGANIZER;CN="Rubix Bar":MAILTO:noreply@facebookmail_com
END:VEVENT
END:VCALENDAR