BEGIN:VCALENDAR
VERSION:2.0
PRODID:-//Keep Colchester Cool - ECPv6.15.20//NONSGML v1.0//EN
CALSCALE:GREGORIAN
METHOD:PUBLISH
X-WR-CALNAME:Keep Colchester Cool
X-ORIGINAL-URL:https://keepcolchestercool.co.uk
X-WR-CALDESC:Events for Keep Colchester Cool
REFRESH-INTERVAL;VALUE=DURATION:PT1H
X-Robots-Tag:noindex
X-PUBLISHED-TTL:PT1H
BEGIN:VTIMEZONE
TZID:Europe/London
BEGIN:DAYLIGHT
TZOFFSETFROM:+0000
TZOFFSETTO:+0100
TZNAME:BST
DTSTART:20250330T010000
END:DAYLIGHT
BEGIN:STANDARD
TZOFFSETFROM:+0100
TZOFFSETTO:+0000
TZNAME:GMT
DTSTART:20251026T010000
END:STANDARD
BEGIN:DAYLIGHT
TZOFFSETFROM:+0000
TZOFFSETTO:+0100
TZNAME:BST
DTSTART:20260329T010000
END:DAYLIGHT
BEGIN:STANDARD
TZOFFSETFROM:+0100
TZOFFSETTO:+0000
TZNAME:GMT
DTSTART:20261025T010000
END:STANDARD
BEGIN:DAYLIGHT
TZOFFSETFROM:+0000
TZOFFSETTO:+0100
TZNAME:BST
DTSTART:20270328T010000
END:DAYLIGHT
BEGIN:STANDARD
TZOFFSETFROM:+0100
TZOFFSETTO:+0000
TZNAME:GMT
DTSTART:20271031T010000
END:STANDARD
END:VTIMEZONE
BEGIN:VEVENT
DTSTART;TZID=Europe/London:20260403T200000
DTEND;TZID=Europe/London:20260403T230000
DTSTAMP:20260424T012006
CREATED:20260105T071030Z
LAST-MODIFIED:20260226T071222Z
UID:127662-1775246400-1775257200@keepcolchestercool.co.uk
SUMMARY:Primary School Bangers with James B Partridge - Colchester
DESCRIPTION:Get ready for a joy-filled trip back to your school days as Primary School Bangers comes to Charter Hall! \nBritain’s favourite teacher James B Partridge takes you from the classroom to the concert hall in a hilarious\, heartwarming celebration of the songs we all grew up singing. From He’s Got the Whole World to This Little Light of Mine\, expect massive singalongs\, surprise mash-ups and tongue-in-cheek nostalgia in the ultimate feel-good night out. \nAfter viral fame\, sold-out tours and a Glastonbury set so popular they had to shut the field\, James brings the nation’s most joyful live show to Colchester.
URL:https://keepcolchestercool.co.uk/event/primary-school-bangers-with-james-b-partridge-colchester/
LOCATION:Cowdray Avenue\, CO1 1YH Colchester\, United Kingdom\, Cowdray Avenue\, CO1 1YH Colchester\, United Kingdom
ATTACH;FMTTYPE=image/jpeg:https://keepcolchestercool.co.uk/wp-content/uploads/127662_image_584892410_1477126907270026_282218172659899095_n.jpg
ORGANIZER;CN="Colchester Charter Hall":MAILTO:noreply@facebookmail_com
END:VEVENT
END:VCALENDAR