BEGIN:VCALENDAR
VERSION:2.0
PRODID:-//Keep Colchester Cool - ECPv6.15.20//NONSGML v1.0//EN
CALSCALE:GREGORIAN
METHOD:PUBLISH
X-WR-CALNAME:Keep Colchester Cool
X-ORIGINAL-URL:https://keepcolchestercool.co.uk
X-WR-CALDESC:Events for Keep Colchester Cool
REFRESH-INTERVAL;VALUE=DURATION:PT1H
X-Robots-Tag:noindex
X-PUBLISHED-TTL:PT1H
BEGIN:VTIMEZONE
TZID:Europe/London
BEGIN:DAYLIGHT
TZOFFSETFROM:+0000
TZOFFSETTO:+0100
TZNAME:BST
DTSTART:20250330T010000
END:DAYLIGHT
BEGIN:STANDARD
TZOFFSETFROM:+0100
TZOFFSETTO:+0000
TZNAME:GMT
DTSTART:20251026T010000
END:STANDARD
BEGIN:DAYLIGHT
TZOFFSETFROM:+0000
TZOFFSETTO:+0100
TZNAME:BST
DTSTART:20260329T010000
END:DAYLIGHT
BEGIN:STANDARD
TZOFFSETFROM:+0100
TZOFFSETTO:+0000
TZNAME:GMT
DTSTART:20261025T010000
END:STANDARD
BEGIN:DAYLIGHT
TZOFFSETFROM:+0000
TZOFFSETTO:+0100
TZNAME:BST
DTSTART:20270328T010000
END:DAYLIGHT
BEGIN:STANDARD
TZOFFSETFROM:+0100
TZOFFSETTO:+0000
TZNAME:GMT
DTSTART:20271031T010000
END:STANDARD
END:VTIMEZONE
BEGIN:VEVENT
DTSTART;TZID=Europe/London:20260131T200000
DTEND;TZID=Europe/London:20260131T230000
DTSTAMP:20260424T065524
CREATED:20260130T071018Z
LAST-MODIFIED:20260131T071022Z
UID:128178-1769889600-1769900400@keepcolchestercool.co.uk
SUMMARY:Prince’s Birthday @ Silk Road
DESCRIPTION:Mark your calendars! 🎉 Join us at Silk Road on Saturday the 31st of January in the heart of Colchester for an unforgettable night of luxury\, music\, and celebration. Get ready to sip expertly crafted cocktails\, relax with premium shishas\, and dance to the beats that keep the party going until the early hours.  \nMore exciting details about this special night will be revealed soon. Stay tuned for a full line-up and surprises that you won’t want to miss! \n_#colchester #essex #colchesterevents #essexevents #nightclub
URL:https://keepcolchestercool.co.uk/event/princes-birthday-silk-road/
LOCATION:The Silk Road Lounge & Bar\, 4 St Botolphs Street\, Colchester\, GB
END:VEVENT
END:VCALENDAR