BEGIN:VCALENDAR
VERSION:2.0
PRODID:-//Keep Colchester Cool - ECPv6.15.20//NONSGML v1.0//EN
CALSCALE:GREGORIAN
METHOD:PUBLISH
X-WR-CALNAME:Keep Colchester Cool
X-ORIGINAL-URL:https://keepcolchestercool.co.uk
X-WR-CALDESC:Events for Keep Colchester Cool
REFRESH-INTERVAL;VALUE=DURATION:PT1H
X-Robots-Tag:noindex
X-PUBLISHED-TTL:PT1H
BEGIN:VTIMEZONE
TZID:Europe/London
BEGIN:DAYLIGHT
TZOFFSETFROM:+0000
TZOFFSETTO:+0100
TZNAME:BST
DTSTART:20240331T010000
END:DAYLIGHT
BEGIN:STANDARD
TZOFFSETFROM:+0100
TZOFFSETTO:+0000
TZNAME:GMT
DTSTART:20241027T010000
END:STANDARD
BEGIN:DAYLIGHT
TZOFFSETFROM:+0000
TZOFFSETTO:+0100
TZNAME:BST
DTSTART:20250330T010000
END:DAYLIGHT
BEGIN:STANDARD
TZOFFSETFROM:+0100
TZOFFSETTO:+0000
TZNAME:GMT
DTSTART:20251026T010000
END:STANDARD
BEGIN:DAYLIGHT
TZOFFSETFROM:+0000
TZOFFSETTO:+0100
TZNAME:BST
DTSTART:20260329T010000
END:DAYLIGHT
BEGIN:STANDARD
TZOFFSETFROM:+0100
TZOFFSETTO:+0000
TZNAME:GMT
DTSTART:20261025T010000
END:STANDARD
END:VTIMEZONE
BEGIN:VEVENT
DTSTART;TZID=Europe/London:20250820T190000
DTEND;TZID=Europe/London:20250820T220000
DTSTAMP:20260419T234753
CREATED:20250715T071132Z
LAST-MODIFIED:20250820T071019Z
UID:125345-1755716400-1755727200@keepcolchestercool.co.uk
SUMMARY:Pub Classics Taster Evening
DESCRIPTION:Join us on Wednesday 20th August for our Pub Classics Taster Evening. \nTuck into a curated selection of beloved pub classics\, each expertly paired with a range of refreshing beers. From golden ales to rich stouts\, discover how the right pint can elevate your favourite dishes. Expect hearty food\, great beer\, a bit of trivia\, and a lot of fun. \nTickets online cost £35. Availability is limited for this event so pre-booking is essential. \nStarts 7pm in our tasting room \nOver 18s only. \nGuests with specific dietary requirements or with allergies should contact the team via info@othermonkeybrewing.com prior to ticket purchase. \nAccess – There is no lift to access the tasting room at Other Monkey Brewing The Taproom. There is one flight of stairs to reach the tasting room.
URL:https://keepcolchestercool.co.uk/event/pub-classics-taster-evening-2/
LOCATION:5-6 St Nicholas St\, CO1 1LB Colchester\, United Kingdom\, 5-6 St Nicholas St\, CO1 1LB Colchester\, United Kingdom
ORGANIZER;CN="Other Monkey Brewing - The Taproom":MAILTO:noreply@facebookmail_com
END:VEVENT
END:VCALENDAR