BEGIN:VCALENDAR
VERSION:2.0
PRODID:-//Keep Colchester Cool - ECPv6.15.20//NONSGML v1.0//EN
CALSCALE:GREGORIAN
METHOD:PUBLISH
X-WR-CALNAME:Keep Colchester Cool
X-ORIGINAL-URL:https://keepcolchestercool.co.uk
X-WR-CALDESC:Events for Keep Colchester Cool
REFRESH-INTERVAL;VALUE=DURATION:PT1H
X-Robots-Tag:noindex
X-PUBLISHED-TTL:PT1H
BEGIN:VTIMEZONE
TZID:Europe/London
BEGIN:DAYLIGHT
TZOFFSETFROM:+0000
TZOFFSETTO:+0100
TZNAME:BST
DTSTART:20240331T010000
END:DAYLIGHT
BEGIN:STANDARD
TZOFFSETFROM:+0100
TZOFFSETTO:+0000
TZNAME:GMT
DTSTART:20241027T010000
END:STANDARD
BEGIN:DAYLIGHT
TZOFFSETFROM:+0000
TZOFFSETTO:+0100
TZNAME:BST
DTSTART:20250330T010000
END:DAYLIGHT
BEGIN:STANDARD
TZOFFSETFROM:+0100
TZOFFSETTO:+0000
TZNAME:GMT
DTSTART:20251026T010000
END:STANDARD
BEGIN:DAYLIGHT
TZOFFSETFROM:+0000
TZOFFSETTO:+0100
TZNAME:BST
DTSTART:20260329T010000
END:DAYLIGHT
BEGIN:STANDARD
TZOFFSETFROM:+0100
TZOFFSETTO:+0000
TZNAME:GMT
DTSTART:20261025T010000
END:STANDARD
END:VTIMEZONE
BEGIN:VEVENT
DTSTART;TZID=Europe/London:20250912T193000
DTEND;TZID=Europe/London:20250913T000000
DTSTAMP:20260424T191410
CREATED:20241208T071105Z
LAST-MODIFIED:20250912T070957Z
UID:121007-1757705400-1757721600@keepcolchestercool.co.uk
SUMMARY:Queen Tribute Night
DESCRIPTION:Head down to Colchester United for the return of our amazing Queen Rhapsody Tribute act. They will be performing all of their biggest hits\, all night long! \nDoors open 7.30pm\, with the act on from approx. 8.30pm. Our DJ will finish the night off through to midnight. Our photobooth will be open all night long!  \nOver 16’s only. 16 to 18 year olds must be accompanied by an adult.
URL:https://keepcolchestercool.co.uk/event/queen-tribute-night/
LOCATION:Colchester United FC\, JobServe Community Stadium\, United Way\, Colchester\, CO4 5UP\, GB
ORGANIZER;CN="Events at Colchester United FC":MAILTO:noreply@facebookmail_com
END:VEVENT
END:VCALENDAR