BEGIN:VCALENDAR
VERSION:2.0
PRODID:-//Keep Colchester Cool - ECPv6.15.20//NONSGML v1.0//EN
CALSCALE:GREGORIAN
METHOD:PUBLISH
X-WR-CALNAME:Keep Colchester Cool
X-ORIGINAL-URL:https://keepcolchestercool.co.uk
X-WR-CALDESC:Events for Keep Colchester Cool
REFRESH-INTERVAL;VALUE=DURATION:PT1H
X-Robots-Tag:noindex
X-PUBLISHED-TTL:PT1H
BEGIN:VTIMEZONE
TZID:Europe/London
BEGIN:DAYLIGHT
TZOFFSETFROM:+0000
TZOFFSETTO:+0100
TZNAME:BST
DTSTART:20240331T010000
END:DAYLIGHT
BEGIN:STANDARD
TZOFFSETFROM:+0100
TZOFFSETTO:+0000
TZNAME:GMT
DTSTART:20241027T010000
END:STANDARD
BEGIN:DAYLIGHT
TZOFFSETFROM:+0000
TZOFFSETTO:+0100
TZNAME:BST
DTSTART:20250330T010000
END:DAYLIGHT
BEGIN:STANDARD
TZOFFSETFROM:+0100
TZOFFSETTO:+0000
TZNAME:GMT
DTSTART:20251026T010000
END:STANDARD
BEGIN:DAYLIGHT
TZOFFSETFROM:+0000
TZOFFSETTO:+0100
TZNAME:BST
DTSTART:20260329T010000
END:DAYLIGHT
BEGIN:STANDARD
TZOFFSETFROM:+0100
TZOFFSETTO:+0000
TZNAME:GMT
DTSTART:20261025T010000
END:STANDARD
END:VTIMEZONE
BEGIN:VEVENT
DTSTART;TZID=Europe/London:20250816T220000
DTEND;TZID=Europe/London:20250817T040000
DTSTAMP:20260424T231628
CREATED:20250521T071154Z
LAST-MODIFIED:20250711T071017Z
UID:124400-1755381600-1755403200@keepcolchestercool.co.uk
SUMMARY:RENDEZVOUS - The Official Craig David Afterparty
DESCRIPTION:RENDEZVOUS – The Official Craig David Afterparty \nAfter Craig David Presents TS5 at Castle Park\, the night doesn’t stop there. Join us at Trilogy\, Colchester\, on Saturday\, 16th August for the Official Afterparty! \nExpect a night of smooth R&B\, garage classics\, and old-school anthems\, with guest DJs\, live performances\, and a few surprises along the way. Whether you’re coming straight from the show or just ready to party\, you don’t want to miss this. \nTickets on sale now! \nCASTLE PARK TICKET IS NOT REQUIRED TO ATTEND
URL:https://keepcolchestercool.co.uk/event/rendezvous-the-official-craig-david-afterparty/
LOCATION:Trilogy Colchester\, Trilogy Colchester
ORGANIZER;CN="Colchester Castle Summer Series":MAILTO:noreply@facebookmail.com
END:VEVENT
END:VCALENDAR