BEGIN:VCALENDAR
VERSION:2.0
PRODID:-//Keep Colchester Cool - ECPv6.15.20//NONSGML v1.0//EN
CALSCALE:GREGORIAN
METHOD:PUBLISH
X-WR-CALNAME:Keep Colchester Cool
X-ORIGINAL-URL:https://keepcolchestercool.co.uk
X-WR-CALDESC:Events for Keep Colchester Cool
REFRESH-INTERVAL;VALUE=DURATION:PT1H
X-Robots-Tag:noindex
X-PUBLISHED-TTL:PT1H
BEGIN:VTIMEZONE
TZID:Europe/London
BEGIN:DAYLIGHT
TZOFFSETFROM:+0000
TZOFFSETTO:+0100
TZNAME:BST
DTSTART:20240331T010000
END:DAYLIGHT
BEGIN:STANDARD
TZOFFSETFROM:+0100
TZOFFSETTO:+0000
TZNAME:GMT
DTSTART:20241027T010000
END:STANDARD
BEGIN:DAYLIGHT
TZOFFSETFROM:+0000
TZOFFSETTO:+0100
TZNAME:BST
DTSTART:20250330T010000
END:DAYLIGHT
BEGIN:STANDARD
TZOFFSETFROM:+0100
TZOFFSETTO:+0000
TZNAME:GMT
DTSTART:20251026T010000
END:STANDARD
BEGIN:DAYLIGHT
TZOFFSETFROM:+0000
TZOFFSETTO:+0100
TZNAME:BST
DTSTART:20260329T010000
END:DAYLIGHT
BEGIN:STANDARD
TZOFFSETFROM:+0100
TZOFFSETTO:+0000
TZNAME:GMT
DTSTART:20261025T010000
END:STANDARD
END:VTIMEZONE
BEGIN:VEVENT
DTSTART;TZID=Europe/London:20251017T190000
DTEND;TZID=Europe/London:20251017T220000
DTSTAMP:20260423T152813
CREATED:20251007T071148Z
LAST-MODIFIED:20251017T071001Z
UID:126148-1760727600-1760738400@keepcolchestercool.co.uk
SUMMARY:ROCK N ROLL BINGO !
DESCRIPTION:Rock & Roll Bingo Night Join us for a musical twist on classic bingo! We play rock legends instead of numbers. Recognize a song\, mark it off\, and shout BINGO to win! Perfect for music lovers and game enthusiasts alike. Grab your crew and let’s rock this!
URL:https://keepcolchestercool.co.uk/event/rock-n-roll-bingo/
LOCATION:The Lexden Crown\, Bistro Pub – Colchester\, The Lexden Crown\, Bistro Pub - Colchester
END:VEVENT
END:VCALENDAR