BEGIN:VCALENDAR
VERSION:2.0
PRODID:-//Keep Colchester Cool - ECPv6.15.20//NONSGML v1.0//EN
CALSCALE:GREGORIAN
METHOD:PUBLISH
X-WR-CALNAME:Keep Colchester Cool
X-ORIGINAL-URL:https://keepcolchestercool.co.uk
X-WR-CALDESC:Events for Keep Colchester Cool
REFRESH-INTERVAL;VALUE=DURATION:PT1H
X-Robots-Tag:noindex
X-PUBLISHED-TTL:PT1H
BEGIN:VTIMEZONE
TZID:Europe/London
BEGIN:DAYLIGHT
TZOFFSETFROM:+0000
TZOFFSETTO:+0100
TZNAME:BST
DTSTART:20250330T010000
END:DAYLIGHT
BEGIN:STANDARD
TZOFFSETFROM:+0100
TZOFFSETTO:+0000
TZNAME:GMT
DTSTART:20251026T010000
END:STANDARD
BEGIN:DAYLIGHT
TZOFFSETFROM:+0000
TZOFFSETTO:+0100
TZNAME:BST
DTSTART:20260329T010000
END:DAYLIGHT
BEGIN:STANDARD
TZOFFSETFROM:+0100
TZOFFSETTO:+0000
TZNAME:GMT
DTSTART:20261025T010000
END:STANDARD
BEGIN:DAYLIGHT
TZOFFSETFROM:+0000
TZOFFSETTO:+0100
TZNAME:BST
DTSTART:20270328T010000
END:DAYLIGHT
BEGIN:STANDARD
TZOFFSETFROM:+0100
TZOFFSETTO:+0000
TZNAME:GMT
DTSTART:20271031T010000
END:STANDARD
END:VTIMEZONE
BEGIN:VEVENT
DTSTART;TZID=Europe/London:20260313T193000
DTEND;TZID=Europe/London:20260313T223000
DTSTAMP:20260424T043654
CREATED:20260105T071026Z
LAST-MODIFIED:20260226T071214Z
UID:127645-1773430200-1773441000@keepcolchestercool.co.uk
SUMMARY:Samantics – One Guy / Two Sides
DESCRIPTION:Samantics is back with ‘The Tour of One Guy With Two Sides’ which is almost as much a mouthful as his lyrics. Having hand-picked a selection of some of his favourite venues\, each night will showcase the two contrasting sides of Samantics across two very different sets. Opening as his own support act\, he will begin with an acoustic set each night\, covering many songs from his ever-extending back catalogue\, playing favourites in ways not heard before and stripping back the songs to what has always been at their core – the words\, swapping beats\, bass and keys for the instrument people love to hate – a ukulele. This will be Ukuliphop in it’s rawest form. After this and short break\, he will return to stage (potentially in a different t-shirt for effect) for the full-beans\, energy riddled\, live-looped set that he has become known for. With two sets to fill\, this ‘evening with Samantics’ will allow for more rarities and older songs that often get overlooked or kicked off the set list to make space for the inevitably requested Pop Song. With stories to tell and a lot more words to remember than usual\, it will likely be a night filled with thought\, laughter\, honesty\, emotion and some undoubtedly awkward moments where he forgets the lyrics and asks for help.These shows have 3 tiers of pricing. The full/suggested price is £12 but there is an option to pay a little less if it helps\, or a little more if wish\, and you feel you are in a position to do so.
URL:https://keepcolchestercool.co.uk/event/samantics-one-guy-two-sides/
LOCATION:60 High Street\, CO1 1DN Colchester\, United Kingdom\, 60 High Street\, CO1 1DN Colchester\, United Kingdom
ATTACH;FMTTYPE=image/jpeg:https://keepcolchestercool.co.uk/wp-content/uploads/127645_image_594255853_1264531822376831_4293996255207542100_n.jpg
ORGANIZER;CN="Three Wise Monkeys Colchester":MAILTO:noreply@facebookmail_com
END:VEVENT
END:VCALENDAR