BEGIN:VCALENDAR
VERSION:2.0
PRODID:-//Keep Colchester Cool - ECPv6.15.20//NONSGML v1.0//EN
CALSCALE:GREGORIAN
METHOD:PUBLISH
X-WR-CALNAME:Keep Colchester Cool
X-ORIGINAL-URL:https://keepcolchestercool.co.uk
X-WR-CALDESC:Events for Keep Colchester Cool
REFRESH-INTERVAL;VALUE=DURATION:PT1H
X-Robots-Tag:noindex
X-PUBLISHED-TTL:PT1H
BEGIN:VTIMEZONE
TZID:Europe/London
BEGIN:DAYLIGHT
TZOFFSETFROM:+0000
TZOFFSETTO:+0100
TZNAME:BST
DTSTART:20240331T010000
END:DAYLIGHT
BEGIN:STANDARD
TZOFFSETFROM:+0100
TZOFFSETTO:+0000
TZNAME:GMT
DTSTART:20241027T010000
END:STANDARD
BEGIN:DAYLIGHT
TZOFFSETFROM:+0000
TZOFFSETTO:+0100
TZNAME:BST
DTSTART:20250330T010000
END:DAYLIGHT
BEGIN:STANDARD
TZOFFSETFROM:+0100
TZOFFSETTO:+0000
TZNAME:GMT
DTSTART:20251026T010000
END:STANDARD
BEGIN:DAYLIGHT
TZOFFSETFROM:+0000
TZOFFSETTO:+0100
TZNAME:BST
DTSTART:20260329T010000
END:DAYLIGHT
BEGIN:STANDARD
TZOFFSETFROM:+0100
TZOFFSETTO:+0000
TZNAME:GMT
DTSTART:20261025T010000
END:STANDARD
END:VTIMEZONE
BEGIN:VEVENT
DTSTART;TZID=Europe/London:20250510T103000
DTEND;TZID=Europe/London:20250510T133000
DTSTAMP:20260426T035646
CREATED:20250409T071033Z
LAST-MODIFIED:20250510T070959Z
UID:123454-1746873000-1746883800@keepcolchestercool.co.uk
SUMMARY:Screen Printing - Upcycling
DESCRIPTION:Bring an old pair of jeans\, denim jacket\, t-shirt\, dress\, cushion cover\, or whatever you like to explore with Associate Artist Katie Kennedy how we can improve\, reuse and recycle fabric using printing techniques.  \nDuring this workshop : > Create an upcycled item that’s totally unique to you > Explore screen printing techniques using hand-cut paper stencils as well as pre-made screens to design and then create prints > Learn new design and making skills to use in the future > Gain knowledge of the basic principles of screen printing  \nNo previous experience necessary. Also suitable for non-beginners.  \nAbout the Associate Artist leading the session: Katie is a graphic designer and workshop artist\, running her own design business alongside delivering art\, design and architecture workshops with museums\, galleries\, schools and festivals across the UK. Katie is inspired by all kinds of things; architecture\, nature\, street art\, great design… Specific print inspirations are: Hatch Show Prints\, Print Club London\, Anthony Burrill\, Abram Games\, Andy Warhol\, Strawberry Luna… the list goes on. Website: www.katiekennedy.co.uk  \nPlease read our cancellation/refunds policy: www.makercampus.co.uk/refunds-policy \nJoin Our Creative Community: Enjoy up to 50% off classes and 24/7 access to our space and equipment. Memberships start at just £15 per month. Learn more: www.makercampus.co.uk/membership \nNew to Colchester Makerspace? We’re a community workshop with ceramics\, printmaking and a vibrant program of classes. Explore our website: www.makercampus.co.uk \nSupport Creativity: Donate to our kiln fund and help us keep making amazing things happen: https://gofund.me/1d2f2158
URL:https://keepcolchestercool.co.uk/event/screen-printing-upcycling/
LOCATION:Trinity Works\,24 Trinity Street\,Colchester\,CO1 1JN\,GB
ORGANIZER;CN="Eventbrite":MAILTO:noreply@facebookmail_com
END:VEVENT
END:VCALENDAR