BEGIN:VCALENDAR
VERSION:2.0
PRODID:-//Keep Colchester Cool - ECPv6.15.20//NONSGML v1.0//EN
CALSCALE:GREGORIAN
METHOD:PUBLISH
X-WR-CALNAME:Keep Colchester Cool
X-ORIGINAL-URL:https://keepcolchestercool.co.uk
X-WR-CALDESC:Events for Keep Colchester Cool
REFRESH-INTERVAL;VALUE=DURATION:PT1H
X-Robots-Tag:noindex
X-PUBLISHED-TTL:PT1H
BEGIN:VTIMEZONE
TZID:Europe/London
BEGIN:DAYLIGHT
TZOFFSETFROM:+0000
TZOFFSETTO:+0100
TZNAME:BST
DTSTART:20250330T010000
END:DAYLIGHT
BEGIN:STANDARD
TZOFFSETFROM:+0100
TZOFFSETTO:+0000
TZNAME:GMT
DTSTART:20251026T010000
END:STANDARD
BEGIN:DAYLIGHT
TZOFFSETFROM:+0000
TZOFFSETTO:+0100
TZNAME:BST
DTSTART:20260329T010000
END:DAYLIGHT
BEGIN:STANDARD
TZOFFSETFROM:+0100
TZOFFSETTO:+0000
TZNAME:GMT
DTSTART:20261025T010000
END:STANDARD
BEGIN:DAYLIGHT
TZOFFSETFROM:+0000
TZOFFSETTO:+0100
TZNAME:BST
DTSTART:20270328T010000
END:DAYLIGHT
BEGIN:STANDARD
TZOFFSETFROM:+0100
TZOFFSETTO:+0000
TZNAME:GMT
DTSTART:20271031T010000
END:STANDARD
END:VTIMEZONE
BEGIN:VEVENT
DTSTART;TZID=Europe/London:20260421T193000
DTEND;TZID=Europe/London:20260425T193000
DTSTAMP:20260424T011932
CREATED:20251202T071107Z
LAST-MODIFIED:20260226T071226Z
UID:127406-1776799800-1777145400@keepcolchestercool.co.uk
SUMMARY:Sherlock Holmes & The Hunt for Moriarty
DESCRIPTION:Blackeyed Theatre in association with Theatre Royal Winchester and South Hill Park presents Sherlock Holmes: The Hunt for MoriartyAdapted by Nick Lane from the work of Sir Arthur Conan DoyleComposer – Tristan Parkes \n“When you have one of the first brains of Europe up against you\, and all the powers of darkness at his back\, there are infinite possibilities.” \nLondon\, 1901. As the British Empire wages war in the name of a Queen whose health is failing\, a series of mysterious events reveals a crack in the high corridors of power. A crack that threatens to destabilise monarchy\, government and Empire. And at its centre\, controlling the flow of information and influence\, a shadowy figure plans a final deadly move. \nDrawn into the game and unsure who to trust\, Sherlock Holmes and Dr. Watson find themselves confronting figures from their past in a desperate race against time\, aware that the most powerful person in the world could be in the pocket of one of the most corrupt. But just how much is Holmes willing to sacrifice as he faces ‘checkmate’? \nA thrilling adventure based on the work of Sir Arthur Conan Doyle\, Sherlock Holmes: The Hunt for Moriarty is a world premiere that combines powerful performances\, a haunting soundscape and innovative design for an exhilarating theatrical experience. \n“One of the most innovative\, audacious companies working in contemporary English theatre” – The Stage
URL:https://keepcolchestercool.co.uk/event/sherlock-holmes-the-hunt-for-moriarty/
LOCATION:Mercury Theatre Colchester\, Mercury Theatre Colchester
ATTACH;FMTTYPE=image/jpeg:https://keepcolchestercool.co.uk/wp-content/uploads/127406_image_586308687_1307866898038316_6236936934499931017_n.jpg
ORGANIZER;CN="Mercury Theatre Colchester":MAILTO:noreply@facebookmail_com
END:VEVENT
END:VCALENDAR